BEGIN:VCALENDAR
VERSION:2.0
PRODID:-//Maiden Creek - ECPv6.15.15//NONSGML v1.0//EN
CALSCALE:GREGORIAN
METHOD:PUBLISH
X-WR-CALNAME:Maiden Creek
X-ORIGINAL-URL:https://maidencreek.net
X-WR-CALDESC:Events for Maiden Creek
REFRESH-INTERVAL;VALUE=DURATION:PT1H
X-Robots-Tag:noindex
X-PUBLISHED-TTL:PT1H
BEGIN:VTIMEZONE
TZID:America/New_York
BEGIN:DAYLIGHT
TZOFFSETFROM:-0500
TZOFFSETTO:-0400
TZNAME:EDT
DTSTART:20270314T070000
END:DAYLIGHT
BEGIN:STANDARD
TZOFFSETFROM:-0400
TZOFFSETTO:-0500
TZNAME:EST
DTSTART:20271107T060000
END:STANDARD
BEGIN:DAYLIGHT
TZOFFSETFROM:-0500
TZOFFSETTO:-0400
TZNAME:EDT
DTSTART:20280312T070000
END:DAYLIGHT
BEGIN:STANDARD
TZOFFSETFROM:-0400
TZOFFSETTO:-0500
TZNAME:EST
DTSTART:20281105T060000
END:STANDARD
BEGIN:DAYLIGHT
TZOFFSETFROM:-0500
TZOFFSETTO:-0400
TZNAME:EDT
DTSTART:20290311T070000
END:DAYLIGHT
BEGIN:STANDARD
TZOFFSETFROM:-0400
TZOFFSETTO:-0500
TZNAME:EST
DTSTART:20291104T060000
END:STANDARD
BEGIN:DAYLIGHT
TZOFFSETFROM:-0500
TZOFFSETTO:-0400
TZNAME:EDT
DTSTART:20300310T070000
END:DAYLIGHT
BEGIN:STANDARD
TZOFFSETFROM:-0400
TZOFFSETTO:-0500
TZNAME:EST
DTSTART:20301103T060000
END:STANDARD
END:VTIMEZONE
BEGIN:VEVENT
DTSTART;TZID=America/New_York:20280518T110000
DTEND;TZID=America/New_York:20280518T130000
DTSTAMP:20260423T120555
CREATED:20240515T020051Z
LAST-MODIFIED:20240515T020204Z
UID:10000495-1842260400-1842267600@maidencreek.net
SUMMARY:Maidencreek Township Authority Meeting
DESCRIPTION:
URL:https://maidencreek.net/calendar/maidencreek-township-authority-meeting/2028-05-18/
LOCATION:Maidencreek Township Authority Board\, 1 Quarry Road\, Reading\, PA\, 19605\, United States
CATEGORIES:Maidencreek Township Authority,Meeting
END:VEVENT
BEGIN:VEVENT
DTSTART;TZID=America/New_York:20280615T110000
DTEND;TZID=America/New_York:20280615T130000
DTSTAMP:20260423T120555
CREATED:20240515T020051Z
LAST-MODIFIED:20240515T020204Z
UID:10000496-1844679600-1844686800@maidencreek.net
SUMMARY:Maidencreek Township Authority Meeting
DESCRIPTION:
URL:https://maidencreek.net/calendar/maidencreek-township-authority-meeting/2028-06-15/
LOCATION:Maidencreek Township Authority Board\, 1 Quarry Road\, Reading\, PA\, 19605\, United States
CATEGORIES:Maidencreek Township Authority,Meeting
END:VEVENT
BEGIN:VEVENT
DTSTART;TZID=America/New_York:20280720T110000
DTEND;TZID=America/New_York:20280720T130000
DTSTAMP:20260423T120555
CREATED:20240515T020051Z
LAST-MODIFIED:20240515T020204Z
UID:10000497-1847703600-1847710800@maidencreek.net
SUMMARY:Maidencreek Township Authority Meeting
DESCRIPTION:
URL:https://maidencreek.net/calendar/maidencreek-township-authority-meeting/2028-07-20/
LOCATION:Maidencreek Township Authority Board\, 1 Quarry Road\, Reading\, PA\, 19605\, United States
CATEGORIES:Maidencreek Township Authority,Meeting
END:VEVENT
BEGIN:VEVENT
DTSTART;TZID=America/New_York:20280817T110000
DTEND;TZID=America/New_York:20280817T130000
DTSTAMP:20260423T120555
CREATED:20240515T020051Z
LAST-MODIFIED:20240515T020204Z
UID:10000498-1850122800-1850130000@maidencreek.net
SUMMARY:Maidencreek Township Authority Meeting
DESCRIPTION:
URL:https://maidencreek.net/calendar/maidencreek-township-authority-meeting/2028-08-17/
LOCATION:Maidencreek Township Authority Board\, 1 Quarry Road\, Reading\, PA\, 19605\, United States
CATEGORIES:Maidencreek Township Authority,Meeting
END:VEVENT
BEGIN:VEVENT
DTSTART;TZID=America/New_York:20280921T110000
DTEND;TZID=America/New_York:20280921T130000
DTSTAMP:20260423T120555
CREATED:20240515T020051Z
LAST-MODIFIED:20240515T020204Z
UID:10000499-1853146800-1853154000@maidencreek.net
SUMMARY:Maidencreek Township Authority Meeting
DESCRIPTION:
URL:https://maidencreek.net/calendar/maidencreek-township-authority-meeting/2028-09-21/
LOCATION:Maidencreek Township Authority Board\, 1 Quarry Road\, Reading\, PA\, 19605\, United States
CATEGORIES:Maidencreek Township Authority,Meeting
END:VEVENT
BEGIN:VEVENT
DTSTART;TZID=America/New_York:20281019T110000
DTEND;TZID=America/New_York:20281019T130000
DTSTAMP:20260423T120555
CREATED:20240515T020051Z
LAST-MODIFIED:20240515T020204Z
UID:10000500-1855566000-1855573200@maidencreek.net
SUMMARY:Maidencreek Township Authority Meeting
DESCRIPTION:
URL:https://maidencreek.net/calendar/maidencreek-township-authority-meeting/2028-10-19/
LOCATION:Maidencreek Township Authority Board\, 1 Quarry Road\, Reading\, PA\, 19605\, United States
CATEGORIES:Maidencreek Township Authority,Meeting
END:VEVENT
BEGIN:VEVENT
DTSTART;TZID=America/New_York:20281116T110000
DTEND;TZID=America/New_York:20281116T130000
DTSTAMP:20260423T120555
CREATED:20240515T020051Z
LAST-MODIFIED:20240515T020204Z
UID:10000501-1857985200-1857992400@maidencreek.net
SUMMARY:Maidencreek Township Authority Meeting
DESCRIPTION:
URL:https://maidencreek.net/calendar/maidencreek-township-authority-meeting/2028-11-16/
LOCATION:Maidencreek Township Authority Board\, 1 Quarry Road\, Reading\, PA\, 19605\, United States
CATEGORIES:Maidencreek Township Authority,Meeting
END:VEVENT
BEGIN:VEVENT
DTSTART;TZID=America/New_York:20281221T110000
DTEND;TZID=America/New_York:20281221T130000
DTSTAMP:20260423T120555
CREATED:20240515T020051Z
LAST-MODIFIED:20240515T020204Z
UID:10000502-1861009200-1861016400@maidencreek.net
SUMMARY:Maidencreek Township Authority Meeting
DESCRIPTION:
URL:https://maidencreek.net/calendar/maidencreek-township-authority-meeting/2028-12-21/
LOCATION:Maidencreek Township Authority Board\, 1 Quarry Road\, Reading\, PA\, 19605\, United States
CATEGORIES:Maidencreek Township Authority,Meeting
END:VEVENT
BEGIN:VEVENT
DTSTART;TZID=America/New_York:20290118T110000
DTEND;TZID=America/New_York:20290118T130000
DTSTAMP:20260423T120555
CREATED:20240515T020051Z
LAST-MODIFIED:20240515T020204Z
UID:10000503-1863428400-1863435600@maidencreek.net
SUMMARY:Maidencreek Township Authority Meeting
DESCRIPTION:
URL:https://maidencreek.net/calendar/maidencreek-township-authority-meeting/2029-01-18/
LOCATION:Maidencreek Township Authority Board\, 1 Quarry Road\, Reading\, PA\, 19605\, United States
CATEGORIES:Maidencreek Township Authority,Meeting
END:VEVENT
BEGIN:VEVENT
DTSTART;TZID=America/New_York:20290215T110000
DTEND;TZID=America/New_York:20290215T130000
DTSTAMP:20260423T120555
CREATED:20240515T020051Z
LAST-MODIFIED:20240515T020204Z
UID:10000504-1865847600-1865854800@maidencreek.net
SUMMARY:Maidencreek Township Authority Meeting
DESCRIPTION:
URL:https://maidencreek.net/calendar/maidencreek-township-authority-meeting/2029-02-15/
LOCATION:Maidencreek Township Authority Board\, 1 Quarry Road\, Reading\, PA\, 19605\, United States
CATEGORIES:Maidencreek Township Authority,Meeting
END:VEVENT
BEGIN:VEVENT
DTSTART;TZID=America/New_York:20290315T110000
DTEND;TZID=America/New_York:20290315T130000
DTSTAMP:20260423T120555
CREATED:20240515T020051Z
LAST-MODIFIED:20240515T020204Z
UID:10000505-1868266800-1868274000@maidencreek.net
SUMMARY:Maidencreek Township Authority Meeting
DESCRIPTION:
URL:https://maidencreek.net/calendar/maidencreek-township-authority-meeting/2029-03-15/
LOCATION:Maidencreek Township Authority Board\, 1 Quarry Road\, Reading\, PA\, 19605\, United States
CATEGORIES:Maidencreek Township Authority,Meeting
END:VEVENT
BEGIN:VEVENT
DTSTART;TZID=America/New_York:20290419T110000
DTEND;TZID=America/New_York:20290419T130000
DTSTAMP:20260423T120555
CREATED:20240515T020051Z
LAST-MODIFIED:20240515T020204Z
UID:10000506-1871290800-1871298000@maidencreek.net
SUMMARY:Maidencreek Township Authority Meeting
DESCRIPTION:
URL:https://maidencreek.net/calendar/maidencreek-township-authority-meeting/2029-04-19/
LOCATION:Maidencreek Township Authority Board\, 1 Quarry Road\, Reading\, PA\, 19605\, United States
CATEGORIES:Maidencreek Township Authority,Meeting
END:VEVENT
END:VCALENDAR