BEGIN:VCALENDAR
VERSION:2.0
PRODID:-//Maiden Creek - ECPv6.15.15//NONSGML v1.0//EN
CALSCALE:GREGORIAN
METHOD:PUBLISH
X-ORIGINAL-URL:https://maidencreek.net
X-WR-CALDESC:Events for Maiden Creek
REFRESH-INTERVAL;VALUE=DURATION:PT1H
X-Robots-Tag:noindex
X-PUBLISHED-TTL:PT1H
BEGIN:VTIMEZONE
TZID:America/New_York
BEGIN:DAYLIGHT
TZOFFSETFROM:-0500
TZOFFSETTO:-0400
TZNAME:EDT
DTSTART:20230312T070000
END:DAYLIGHT
BEGIN:STANDARD
TZOFFSETFROM:-0400
TZOFFSETTO:-0500
TZNAME:EST
DTSTART:20231105T060000
END:STANDARD
BEGIN:DAYLIGHT
TZOFFSETFROM:-0500
TZOFFSETTO:-0400
TZNAME:EDT
DTSTART:20240310T070000
END:DAYLIGHT
BEGIN:STANDARD
TZOFFSETFROM:-0400
TZOFFSETTO:-0500
TZNAME:EST
DTSTART:20241103T060000
END:STANDARD
BEGIN:DAYLIGHT
TZOFFSETFROM:-0500
TZOFFSETTO:-0400
TZNAME:EDT
DTSTART:20250309T070000
END:DAYLIGHT
BEGIN:STANDARD
TZOFFSETFROM:-0400
TZOFFSETTO:-0500
TZNAME:EST
DTSTART:20251102T060000
END:STANDARD
BEGIN:DAYLIGHT
TZOFFSETFROM:-0500
TZOFFSETTO:-0400
TZNAME:EDT
DTSTART:20260308T070000
END:DAYLIGHT
BEGIN:STANDARD
TZOFFSETFROM:-0400
TZOFFSETTO:-0500
TZNAME:EST
DTSTART:20261101T060000
END:STANDARD
END:VTIMEZONE
BEGIN:VEVENT
DTSTART;TZID=America/New_York:20250414T180000
DTEND;TZID=America/New_York:20250414T200000
DTSTAMP:20260424T220052
CREATED:20240515T015724Z
LAST-MODIFIED:20240515T015735Z
UID:10000397-1744653600-1744660800@maidencreek.net
SUMMARY:Northern Berks Regional Police Commission Meeting
DESCRIPTION:
URL:https://maidencreek.net/calendar/northern-berks-regional-police-commission-meeting/2025-04-14/
LOCATION:National Berks Police Commission\, 35 Ontelaunee Dr\, Reading\, PA\, 19605\, United States
CATEGORIES:Meeting,Northern Berks Regional Police Commission
END:VEVENT
BEGIN:VEVENT
DTSTART;TZID=America/New_York:20250310T180000
DTEND;TZID=America/New_York:20250310T200000
DTSTAMP:20260424T220052
CREATED:20240515T015724Z
LAST-MODIFIED:20240515T015735Z
UID:10000396-1741629600-1741636800@maidencreek.net
SUMMARY:Northern Berks Regional Police Commission Meeting
DESCRIPTION:
URL:https://maidencreek.net/calendar/northern-berks-regional-police-commission-meeting/2025-03-10/
LOCATION:National Berks Police Commission\, 35 Ontelaunee Dr\, Reading\, PA\, 19605\, United States
CATEGORIES:Meeting,Northern Berks Regional Police Commission
END:VEVENT
BEGIN:VEVENT
DTSTART;TZID=America/New_York:20250210T180000
DTEND;TZID=America/New_York:20250210T200000
DTSTAMP:20260424T220052
CREATED:20240515T015724Z
LAST-MODIFIED:20240515T015735Z
UID:10000395-1739210400-1739217600@maidencreek.net
SUMMARY:Northern Berks Regional Police Commission Meeting
DESCRIPTION:
URL:https://maidencreek.net/calendar/northern-berks-regional-police-commission-meeting/2025-02-10/
LOCATION:National Berks Police Commission\, 35 Ontelaunee Dr\, Reading\, PA\, 19605\, United States
CATEGORIES:Meeting,Northern Berks Regional Police Commission
END:VEVENT
BEGIN:VEVENT
DTSTART;TZID=America/New_York:20250113T180000
DTEND;TZID=America/New_York:20250113T200000
DTSTAMP:20260424T220052
CREATED:20240515T015724Z
LAST-MODIFIED:20240515T015735Z
UID:10000394-1736791200-1736798400@maidencreek.net
SUMMARY:Northern Berks Regional Police Commission Meeting
DESCRIPTION:
URL:https://maidencreek.net/calendar/northern-berks-regional-police-commission-meeting/2025-01-13/
LOCATION:National Berks Police Commission\, 35 Ontelaunee Dr\, Reading\, PA\, 19605\, United States
CATEGORIES:Meeting,Northern Berks Regional Police Commission
END:VEVENT
BEGIN:VEVENT
DTSTART;TZID=America/New_York:20241209T180000
DTEND;TZID=America/New_York:20241209T200000
DTSTAMP:20260424T220052
CREATED:20240515T015724Z
LAST-MODIFIED:20240515T015735Z
UID:10000393-1733767200-1733774400@maidencreek.net
SUMMARY:Northern Berks Regional Police Commission Meeting
DESCRIPTION:
URL:https://maidencreek.net/calendar/northern-berks-regional-police-commission-meeting/2024-12-09/
LOCATION:National Berks Police Commission\, 35 Ontelaunee Dr\, Reading\, PA\, 19605\, United States
CATEGORIES:Meeting,Northern Berks Regional Police Commission
END:VEVENT
BEGIN:VEVENT
DTSTART;TZID=America/New_York:20241111T180000
DTEND;TZID=America/New_York:20241111T200000
DTSTAMP:20260424T220052
CREATED:20240515T015724Z
LAST-MODIFIED:20240515T015735Z
UID:10000392-1731348000-1731355200@maidencreek.net
SUMMARY:Northern Berks Regional Police Commission Meeting
DESCRIPTION:
URL:https://maidencreek.net/calendar/northern-berks-regional-police-commission-meeting/2024-11-11/
LOCATION:National Berks Police Commission\, 35 Ontelaunee Dr\, Reading\, PA\, 19605\, United States
CATEGORIES:Meeting,Northern Berks Regional Police Commission
END:VEVENT
BEGIN:VEVENT
DTSTART;TZID=America/New_York:20241014T180000
DTEND;TZID=America/New_York:20241014T200000
DTSTAMP:20260424T220052
CREATED:20240515T015724Z
LAST-MODIFIED:20240515T015735Z
UID:10000391-1728928800-1728936000@maidencreek.net
SUMMARY:Northern Berks Regional Police Commission Meeting
DESCRIPTION:
URL:https://maidencreek.net/calendar/northern-berks-regional-police-commission-meeting/2024-10-14/
LOCATION:National Berks Police Commission\, 35 Ontelaunee Dr\, Reading\, PA\, 19605\, United States
CATEGORIES:Meeting,Northern Berks Regional Police Commission
END:VEVENT
BEGIN:VEVENT
DTSTART;TZID=America/New_York:20240909T180000
DTEND;TZID=America/New_York:20240909T200000
DTSTAMP:20260424T220052
CREATED:20240515T015724Z
LAST-MODIFIED:20240515T015735Z
UID:10000390-1725904800-1725912000@maidencreek.net
SUMMARY:Northern Berks Regional Police Commission Meeting
DESCRIPTION:
URL:https://maidencreek.net/calendar/northern-berks-regional-police-commission-meeting/2024-09-09/
LOCATION:National Berks Police Commission\, 35 Ontelaunee Dr\, Reading\, PA\, 19605\, United States
CATEGORIES:Meeting,Northern Berks Regional Police Commission
END:VEVENT
BEGIN:VEVENT
DTSTART;TZID=America/New_York:20240812T180000
DTEND;TZID=America/New_York:20240812T200000
DTSTAMP:20260424T220052
CREATED:20240515T015724Z
LAST-MODIFIED:20240515T015735Z
UID:10000389-1723485600-1723492800@maidencreek.net
SUMMARY:Northern Berks Regional Police Commission Meeting
DESCRIPTION:
URL:https://maidencreek.net/calendar/northern-berks-regional-police-commission-meeting/2024-08-12/
LOCATION:National Berks Police Commission\, 35 Ontelaunee Dr\, Reading\, PA\, 19605\, United States
CATEGORIES:Meeting,Northern Berks Regional Police Commission
END:VEVENT
BEGIN:VEVENT
DTSTART;TZID=America/New_York:20240708T180000
DTEND;TZID=America/New_York:20240708T200000
DTSTAMP:20260424T220052
CREATED:20240515T015724Z
LAST-MODIFIED:20240515T015735Z
UID:10000388-1720461600-1720468800@maidencreek.net
SUMMARY:Northern Berks Regional Police Commission Meeting
DESCRIPTION:
URL:https://maidencreek.net/calendar/northern-berks-regional-police-commission-meeting/2024-07-08/
LOCATION:National Berks Police Commission\, 35 Ontelaunee Dr\, Reading\, PA\, 19605\, United States
CATEGORIES:Meeting,Northern Berks Regional Police Commission
END:VEVENT
BEGIN:VEVENT
DTSTART;TZID=America/New_York:20240610T180000
DTEND;TZID=America/New_York:20240610T200000
DTSTAMP:20260424T220052
CREATED:20240515T015724Z
LAST-MODIFIED:20240515T015735Z
UID:10000387-1718042400-1718049600@maidencreek.net
SUMMARY:Northern Berks Regional Police Commission Meeting
DESCRIPTION:
URL:https://maidencreek.net/calendar/northern-berks-regional-police-commission-meeting/2024-06-10/
LOCATION:National Berks Police Commission\, 35 Ontelaunee Dr\, Reading\, PA\, 19605\, United States
CATEGORIES:Meeting,Northern Berks Regional Police Commission
END:VEVENT
BEGIN:VEVENT
DTSTART;TZID=America/New_York:20240513T180000
DTEND;TZID=America/New_York:20240513T200000
DTSTAMP:20260424T220052
CREATED:20240515T015724Z
LAST-MODIFIED:20240515T015735Z
UID:10000386-1715623200-1715630400@maidencreek.net
SUMMARY:Northern Berks Regional Police Commission Meeting
DESCRIPTION:
URL:https://maidencreek.net/calendar/northern-berks-regional-police-commission-meeting/2024-05-13/
LOCATION:National Berks Police Commission\, 35 Ontelaunee Dr\, Reading\, PA\, 19605\, United States
CATEGORIES:Meeting,Northern Berks Regional Police Commission
END:VEVENT
END:VCALENDAR