BEGIN:VCALENDAR
VERSION:2.0
PRODID:-//Maiden Creek - ECPv6.15.15//NONSGML v1.0//EN
CALSCALE:GREGORIAN
METHOD:PUBLISH
X-ORIGINAL-URL:https://maidencreek.net
X-WR-CALDESC:Events for Maiden Creek
REFRESH-INTERVAL;VALUE=DURATION:PT1H
X-Robots-Tag:noindex
X-PUBLISHED-TTL:PT1H
BEGIN:VTIMEZONE
TZID:America/New_York
BEGIN:DAYLIGHT
TZOFFSETFROM:-0500
TZOFFSETTO:-0400
TZNAME:EDT
DTSTART:20260308T070000
END:DAYLIGHT
BEGIN:STANDARD
TZOFFSETFROM:-0400
TZOFFSETTO:-0500
TZNAME:EST
DTSTART:20261101T060000
END:STANDARD
BEGIN:DAYLIGHT
TZOFFSETFROM:-0500
TZOFFSETTO:-0400
TZNAME:EDT
DTSTART:20270314T070000
END:DAYLIGHT
BEGIN:STANDARD
TZOFFSETFROM:-0400
TZOFFSETTO:-0500
TZNAME:EST
DTSTART:20271107T060000
END:STANDARD
BEGIN:DAYLIGHT
TZOFFSETFROM:-0500
TZOFFSETTO:-0400
TZNAME:EDT
DTSTART:20280312T070000
END:DAYLIGHT
BEGIN:STANDARD
TZOFFSETFROM:-0400
TZOFFSETTO:-0500
TZNAME:EST
DTSTART:20281105T060000
END:STANDARD
BEGIN:DAYLIGHT
TZOFFSETFROM:-0500
TZOFFSETTO:-0400
TZNAME:EDT
DTSTART:20290311T070000
END:DAYLIGHT
BEGIN:STANDARD
TZOFFSETFROM:-0400
TZOFFSETTO:-0500
TZNAME:EST
DTSTART:20291104T060000
END:STANDARD
BEGIN:DAYLIGHT
TZOFFSETFROM:-0500
TZOFFSETTO:-0400
TZNAME:EDT
DTSTART:20300310T070000
END:DAYLIGHT
BEGIN:STANDARD
TZOFFSETFROM:-0400
TZOFFSETTO:-0500
TZNAME:EST
DTSTART:20301103T060000
END:STANDARD
END:VTIMEZONE
BEGIN:VEVENT
DTSTART;TZID=America/New_York:20270510T180000
DTEND;TZID=America/New_York:20270510T200000
DTSTAMP:20260424T052528
CREATED:20240515T015724Z
LAST-MODIFIED:20240515T015735Z
UID:10000422-1809972000-1809979200@maidencreek.net
SUMMARY:Northern Berks Regional Police Commission Meeting
DESCRIPTION:
URL:https://maidencreek.net/calendar/northern-berks-regional-police-commission-meeting/2027-05-10/
LOCATION:National Berks Police Commission\, 35 Ontelaunee Dr\, Reading\, PA\, 19605\, United States
CATEGORIES:Meeting,Northern Berks Regional Police Commission
END:VEVENT
BEGIN:VEVENT
DTSTART;TZID=America/New_York:20270614T180000
DTEND;TZID=America/New_York:20270614T200000
DTSTAMP:20260424T052528
CREATED:20240515T015724Z
LAST-MODIFIED:20240515T015735Z
UID:10000423-1812996000-1813003200@maidencreek.net
SUMMARY:Northern Berks Regional Police Commission Meeting
DESCRIPTION:
URL:https://maidencreek.net/calendar/northern-berks-regional-police-commission-meeting/2027-06-14/
LOCATION:National Berks Police Commission\, 35 Ontelaunee Dr\, Reading\, PA\, 19605\, United States
CATEGORIES:Meeting,Northern Berks Regional Police Commission
END:VEVENT
BEGIN:VEVENT
DTSTART;TZID=America/New_York:20270712T180000
DTEND;TZID=America/New_York:20270712T200000
DTSTAMP:20260424T052528
CREATED:20240515T015724Z
LAST-MODIFIED:20240515T015735Z
UID:10000424-1815415200-1815422400@maidencreek.net
SUMMARY:Northern Berks Regional Police Commission Meeting
DESCRIPTION:
URL:https://maidencreek.net/calendar/northern-berks-regional-police-commission-meeting/2027-07-12/
LOCATION:National Berks Police Commission\, 35 Ontelaunee Dr\, Reading\, PA\, 19605\, United States
CATEGORIES:Meeting,Northern Berks Regional Police Commission
END:VEVENT
BEGIN:VEVENT
DTSTART;TZID=America/New_York:20270809T180000
DTEND;TZID=America/New_York:20270809T200000
DTSTAMP:20260424T052528
CREATED:20240515T015724Z
LAST-MODIFIED:20240515T015735Z
UID:10000425-1817834400-1817841600@maidencreek.net
SUMMARY:Northern Berks Regional Police Commission Meeting
DESCRIPTION:
URL:https://maidencreek.net/calendar/northern-berks-regional-police-commission-meeting/2027-08-09/
LOCATION:National Berks Police Commission\, 35 Ontelaunee Dr\, Reading\, PA\, 19605\, United States
CATEGORIES:Meeting,Northern Berks Regional Police Commission
END:VEVENT
BEGIN:VEVENT
DTSTART;TZID=America/New_York:20270913T180000
DTEND;TZID=America/New_York:20270913T200000
DTSTAMP:20260424T052528
CREATED:20240515T015724Z
LAST-MODIFIED:20240515T015735Z
UID:10000426-1820858400-1820865600@maidencreek.net
SUMMARY:Northern Berks Regional Police Commission Meeting
DESCRIPTION:
URL:https://maidencreek.net/calendar/northern-berks-regional-police-commission-meeting/2027-09-13/
LOCATION:National Berks Police Commission\, 35 Ontelaunee Dr\, Reading\, PA\, 19605\, United States
CATEGORIES:Meeting,Northern Berks Regional Police Commission
END:VEVENT
BEGIN:VEVENT
DTSTART;TZID=America/New_York:20271011T180000
DTEND;TZID=America/New_York:20271011T200000
DTSTAMP:20260424T052528
CREATED:20240515T015724Z
LAST-MODIFIED:20240515T015735Z
UID:10000427-1823277600-1823284800@maidencreek.net
SUMMARY:Northern Berks Regional Police Commission Meeting
DESCRIPTION:
URL:https://maidencreek.net/calendar/northern-berks-regional-police-commission-meeting/2027-10-11/
LOCATION:National Berks Police Commission\, 35 Ontelaunee Dr\, Reading\, PA\, 19605\, United States
CATEGORIES:Meeting,Northern Berks Regional Police Commission
END:VEVENT
BEGIN:VEVENT
DTSTART;TZID=America/New_York:20271108T180000
DTEND;TZID=America/New_York:20271108T200000
DTSTAMP:20260424T052528
CREATED:20240515T015724Z
LAST-MODIFIED:20240515T015735Z
UID:10000428-1825696800-1825704000@maidencreek.net
SUMMARY:Northern Berks Regional Police Commission Meeting
DESCRIPTION:
URL:https://maidencreek.net/calendar/northern-berks-regional-police-commission-meeting/2027-11-08/
LOCATION:National Berks Police Commission\, 35 Ontelaunee Dr\, Reading\, PA\, 19605\, United States
CATEGORIES:Meeting,Northern Berks Regional Police Commission
END:VEVENT
BEGIN:VEVENT
DTSTART;TZID=America/New_York:20271213T180000
DTEND;TZID=America/New_York:20271213T200000
DTSTAMP:20260424T052528
CREATED:20240515T015724Z
LAST-MODIFIED:20240515T015735Z
UID:10000429-1828720800-1828728000@maidencreek.net
SUMMARY:Northern Berks Regional Police Commission Meeting
DESCRIPTION:
URL:https://maidencreek.net/calendar/northern-berks-regional-police-commission-meeting/2027-12-13/
LOCATION:National Berks Police Commission\, 35 Ontelaunee Dr\, Reading\, PA\, 19605\, United States
CATEGORIES:Meeting,Northern Berks Regional Police Commission
END:VEVENT
BEGIN:VEVENT
DTSTART;TZID=America/New_York:20280110T180000
DTEND;TZID=America/New_York:20280110T200000
DTSTAMP:20260424T052528
CREATED:20240515T015724Z
LAST-MODIFIED:20240515T015735Z
UID:10000430-1831140000-1831147200@maidencreek.net
SUMMARY:Northern Berks Regional Police Commission Meeting
DESCRIPTION:
URL:https://maidencreek.net/calendar/northern-berks-regional-police-commission-meeting/2028-01-10/
LOCATION:National Berks Police Commission\, 35 Ontelaunee Dr\, Reading\, PA\, 19605\, United States
CATEGORIES:Meeting,Northern Berks Regional Police Commission
END:VEVENT
BEGIN:VEVENT
DTSTART;TZID=America/New_York:20280214T180000
DTEND;TZID=America/New_York:20280214T200000
DTSTAMP:20260424T052528
CREATED:20240515T015724Z
LAST-MODIFIED:20240515T015735Z
UID:10000431-1834164000-1834171200@maidencreek.net
SUMMARY:Northern Berks Regional Police Commission Meeting
DESCRIPTION:
URL:https://maidencreek.net/calendar/northern-berks-regional-police-commission-meeting/2028-02-14/
LOCATION:National Berks Police Commission\, 35 Ontelaunee Dr\, Reading\, PA\, 19605\, United States
CATEGORIES:Meeting,Northern Berks Regional Police Commission
END:VEVENT
BEGIN:VEVENT
DTSTART;TZID=America/New_York:20280313T180000
DTEND;TZID=America/New_York:20280313T200000
DTSTAMP:20260424T052528
CREATED:20240515T015724Z
LAST-MODIFIED:20240515T015735Z
UID:10000432-1836583200-1836590400@maidencreek.net
SUMMARY:Northern Berks Regional Police Commission Meeting
DESCRIPTION:
URL:https://maidencreek.net/calendar/northern-berks-regional-police-commission-meeting/2028-03-13/
LOCATION:National Berks Police Commission\, 35 Ontelaunee Dr\, Reading\, PA\, 19605\, United States
CATEGORIES:Meeting,Northern Berks Regional Police Commission
END:VEVENT
BEGIN:VEVENT
DTSTART;TZID=America/New_York:20280410T180000
DTEND;TZID=America/New_York:20280410T200000
DTSTAMP:20260424T052528
CREATED:20240515T015724Z
LAST-MODIFIED:20240515T015735Z
UID:10000433-1839002400-1839009600@maidencreek.net
SUMMARY:Northern Berks Regional Police Commission Meeting
DESCRIPTION:
URL:https://maidencreek.net/calendar/northern-berks-regional-police-commission-meeting/2028-04-10/
LOCATION:National Berks Police Commission\, 35 Ontelaunee Dr\, Reading\, PA\, 19605\, United States
CATEGORIES:Meeting,Northern Berks Regional Police Commission
END:VEVENT
BEGIN:VEVENT
DTSTART;TZID=America/New_York:20280508T180000
DTEND;TZID=America/New_York:20280508T200000
DTSTAMP:20260424T052528
CREATED:20240515T015724Z
LAST-MODIFIED:20240515T015735Z
UID:10000434-1841421600-1841428800@maidencreek.net
SUMMARY:Northern Berks Regional Police Commission Meeting
DESCRIPTION:
URL:https://maidencreek.net/calendar/northern-berks-regional-police-commission-meeting/2028-05-08/
LOCATION:National Berks Police Commission\, 35 Ontelaunee Dr\, Reading\, PA\, 19605\, United States
CATEGORIES:Meeting,Northern Berks Regional Police Commission
END:VEVENT
BEGIN:VEVENT
DTSTART;TZID=America/New_York:20280612T180000
DTEND;TZID=America/New_York:20280612T200000
DTSTAMP:20260424T052528
CREATED:20240515T015724Z
LAST-MODIFIED:20240515T015735Z
UID:10000435-1844445600-1844452800@maidencreek.net
SUMMARY:Northern Berks Regional Police Commission Meeting
DESCRIPTION:
URL:https://maidencreek.net/calendar/northern-berks-regional-police-commission-meeting/2028-06-12/
LOCATION:National Berks Police Commission\, 35 Ontelaunee Dr\, Reading\, PA\, 19605\, United States
CATEGORIES:Meeting,Northern Berks Regional Police Commission
END:VEVENT
BEGIN:VEVENT
DTSTART;TZID=America/New_York:20280710T180000
DTEND;TZID=America/New_York:20280710T200000
DTSTAMP:20260424T052528
CREATED:20240515T015724Z
LAST-MODIFIED:20240515T015735Z
UID:10000436-1846864800-1846872000@maidencreek.net
SUMMARY:Northern Berks Regional Police Commission Meeting
DESCRIPTION:
URL:https://maidencreek.net/calendar/northern-berks-regional-police-commission-meeting/2028-07-10/
LOCATION:National Berks Police Commission\, 35 Ontelaunee Dr\, Reading\, PA\, 19605\, United States
CATEGORIES:Meeting,Northern Berks Regional Police Commission
END:VEVENT
BEGIN:VEVENT
DTSTART;TZID=America/New_York:20280814T180000
DTEND;TZID=America/New_York:20280814T200000
DTSTAMP:20260424T052528
CREATED:20240515T015724Z
LAST-MODIFIED:20240515T015735Z
UID:10000437-1849888800-1849896000@maidencreek.net
SUMMARY:Northern Berks Regional Police Commission Meeting
DESCRIPTION:
URL:https://maidencreek.net/calendar/northern-berks-regional-police-commission-meeting/2028-08-14/
LOCATION:National Berks Police Commission\, 35 Ontelaunee Dr\, Reading\, PA\, 19605\, United States
CATEGORIES:Meeting,Northern Berks Regional Police Commission
END:VEVENT
BEGIN:VEVENT
DTSTART;TZID=America/New_York:20280911T180000
DTEND;TZID=America/New_York:20280911T200000
DTSTAMP:20260424T052528
CREATED:20240515T015724Z
LAST-MODIFIED:20240515T015735Z
UID:10000438-1852308000-1852315200@maidencreek.net
SUMMARY:Northern Berks Regional Police Commission Meeting
DESCRIPTION:
URL:https://maidencreek.net/calendar/northern-berks-regional-police-commission-meeting/2028-09-11/
LOCATION:National Berks Police Commission\, 35 Ontelaunee Dr\, Reading\, PA\, 19605\, United States
CATEGORIES:Meeting,Northern Berks Regional Police Commission
END:VEVENT
BEGIN:VEVENT
DTSTART;TZID=America/New_York:20281009T180000
DTEND;TZID=America/New_York:20281009T200000
DTSTAMP:20260424T052528
CREATED:20240515T015724Z
LAST-MODIFIED:20240515T015735Z
UID:10000439-1854727200-1854734400@maidencreek.net
SUMMARY:Northern Berks Regional Police Commission Meeting
DESCRIPTION:
URL:https://maidencreek.net/calendar/northern-berks-regional-police-commission-meeting/2028-10-09/
LOCATION:National Berks Police Commission\, 35 Ontelaunee Dr\, Reading\, PA\, 19605\, United States
CATEGORIES:Meeting,Northern Berks Regional Police Commission
END:VEVENT
BEGIN:VEVENT
DTSTART;TZID=America/New_York:20281113T180000
DTEND;TZID=America/New_York:20281113T200000
DTSTAMP:20260424T052528
CREATED:20240515T015724Z
LAST-MODIFIED:20240515T015735Z
UID:10000440-1857751200-1857758400@maidencreek.net
SUMMARY:Northern Berks Regional Police Commission Meeting
DESCRIPTION:
URL:https://maidencreek.net/calendar/northern-berks-regional-police-commission-meeting/2028-11-13/
LOCATION:National Berks Police Commission\, 35 Ontelaunee Dr\, Reading\, PA\, 19605\, United States
CATEGORIES:Meeting,Northern Berks Regional Police Commission
END:VEVENT
BEGIN:VEVENT
DTSTART;TZID=America/New_York:20281211T180000
DTEND;TZID=America/New_York:20281211T200000
DTSTAMP:20260424T052528
CREATED:20240515T015724Z
LAST-MODIFIED:20240515T015735Z
UID:10000441-1860170400-1860177600@maidencreek.net
SUMMARY:Northern Berks Regional Police Commission Meeting
DESCRIPTION:
URL:https://maidencreek.net/calendar/northern-berks-regional-police-commission-meeting/2028-12-11/
LOCATION:National Berks Police Commission\, 35 Ontelaunee Dr\, Reading\, PA\, 19605\, United States
CATEGORIES:Meeting,Northern Berks Regional Police Commission
END:VEVENT
BEGIN:VEVENT
DTSTART;TZID=America/New_York:20290108T180000
DTEND;TZID=America/New_York:20290108T200000
DTSTAMP:20260424T052528
CREATED:20240515T015724Z
LAST-MODIFIED:20240515T015735Z
UID:10000442-1862589600-1862596800@maidencreek.net
SUMMARY:Northern Berks Regional Police Commission Meeting
DESCRIPTION:
URL:https://maidencreek.net/calendar/northern-berks-regional-police-commission-meeting/2029-01-08/
LOCATION:National Berks Police Commission\, 35 Ontelaunee Dr\, Reading\, PA\, 19605\, United States
CATEGORIES:Meeting,Northern Berks Regional Police Commission
END:VEVENT
BEGIN:VEVENT
DTSTART;TZID=America/New_York:20290212T180000
DTEND;TZID=America/New_York:20290212T200000
DTSTAMP:20260424T052528
CREATED:20240515T015724Z
LAST-MODIFIED:20240515T015735Z
UID:10000443-1865613600-1865620800@maidencreek.net
SUMMARY:Northern Berks Regional Police Commission Meeting
DESCRIPTION:
URL:https://maidencreek.net/calendar/northern-berks-regional-police-commission-meeting/2029-02-12/
LOCATION:National Berks Police Commission\, 35 Ontelaunee Dr\, Reading\, PA\, 19605\, United States
CATEGORIES:Meeting,Northern Berks Regional Police Commission
END:VEVENT
BEGIN:VEVENT
DTSTART;TZID=America/New_York:20290312T180000
DTEND;TZID=America/New_York:20290312T200000
DTSTAMP:20260424T052528
CREATED:20240515T015724Z
LAST-MODIFIED:20240515T015735Z
UID:10000444-1868032800-1868040000@maidencreek.net
SUMMARY:Northern Berks Regional Police Commission Meeting
DESCRIPTION:
URL:https://maidencreek.net/calendar/northern-berks-regional-police-commission-meeting/2029-03-12/
LOCATION:National Berks Police Commission\, 35 Ontelaunee Dr\, Reading\, PA\, 19605\, United States
CATEGORIES:Meeting,Northern Berks Regional Police Commission
END:VEVENT
BEGIN:VEVENT
DTSTART;TZID=America/New_York:20290409T180000
DTEND;TZID=America/New_York:20290409T200000
DTSTAMP:20260424T052528
CREATED:20240515T015724Z
LAST-MODIFIED:20240515T015735Z
UID:10000445-1870452000-1870459200@maidencreek.net
SUMMARY:Northern Berks Regional Police Commission Meeting
DESCRIPTION:
URL:https://maidencreek.net/calendar/northern-berks-regional-police-commission-meeting/2029-04-09/
LOCATION:National Berks Police Commission\, 35 Ontelaunee Dr\, Reading\, PA\, 19605\, United States
CATEGORIES:Meeting,Northern Berks Regional Police Commission
END:VEVENT
BEGIN:VEVENT
DTSTART;TZID=America/New_York:20290514T180000
DTEND;TZID=America/New_York:20290514T200000
DTSTAMP:20260424T052528
CREATED:20240515T015724Z
LAST-MODIFIED:20240515T015735Z
UID:10000446-1873476000-1873483200@maidencreek.net
SUMMARY:Northern Berks Regional Police Commission Meeting
DESCRIPTION:
URL:https://maidencreek.net/calendar/northern-berks-regional-police-commission-meeting/2029-05-14/
LOCATION:National Berks Police Commission\, 35 Ontelaunee Dr\, Reading\, PA\, 19605\, United States
CATEGORIES:Meeting,Northern Berks Regional Police Commission
END:VEVENT
END:VCALENDAR