BEGIN:VCALENDAR
VERSION:2.0
PRODID:-//Maiden Creek - ECPv6.15.15//NONSGML v1.0//EN
CALSCALE:GREGORIAN
METHOD:PUBLISH
X-ORIGINAL-URL:https://maidencreek.net
X-WR-CALDESC:Events for Maiden Creek
REFRESH-INTERVAL;VALUE=DURATION:PT1H
X-Robots-Tag:noindex
X-PUBLISHED-TTL:PT1H
BEGIN:VTIMEZONE
TZID:America/New_York
BEGIN:DAYLIGHT
TZOFFSETFROM:-0500
TZOFFSETTO:-0400
TZNAME:EDT
DTSTART:20260308T070000
END:DAYLIGHT
BEGIN:STANDARD
TZOFFSETFROM:-0400
TZOFFSETTO:-0500
TZNAME:EST
DTSTART:20261101T060000
END:STANDARD
BEGIN:DAYLIGHT
TZOFFSETFROM:-0500
TZOFFSETTO:-0400
TZNAME:EDT
DTSTART:20270314T070000
END:DAYLIGHT
BEGIN:STANDARD
TZOFFSETFROM:-0400
TZOFFSETTO:-0500
TZNAME:EST
DTSTART:20271107T060000
END:STANDARD
BEGIN:DAYLIGHT
TZOFFSETFROM:-0500
TZOFFSETTO:-0400
TZNAME:EDT
DTSTART:20280312T070000
END:DAYLIGHT
BEGIN:STANDARD
TZOFFSETFROM:-0400
TZOFFSETTO:-0500
TZNAME:EST
DTSTART:20281105T060000
END:STANDARD
BEGIN:DAYLIGHT
TZOFFSETFROM:-0500
TZOFFSETTO:-0400
TZNAME:EDT
DTSTART:20290311T070000
END:DAYLIGHT
BEGIN:STANDARD
TZOFFSETFROM:-0400
TZOFFSETTO:-0500
TZNAME:EST
DTSTART:20291104T060000
END:STANDARD
BEGIN:DAYLIGHT
TZOFFSETFROM:-0500
TZOFFSETTO:-0400
TZNAME:EDT
DTSTART:20300310T070000
END:DAYLIGHT
BEGIN:STANDARD
TZOFFSETFROM:-0400
TZOFFSETTO:-0500
TZNAME:EST
DTSTART:20301103T060000
END:STANDARD
END:VTIMEZONE
BEGIN:VEVENT
DTSTART;TZID=America/New_York:20270722T180000
DTEND;TZID=America/New_York:20270722T200000
DTSTAMP:20260423T142013
CREATED:20251117T142712Z
LAST-MODIFIED:20251117T185212Z
UID:10000988-1816279200-1816286400@maidencreek.net
SUMMARY:Park and Recreation Board Meeting
DESCRIPTION:
URL:https://maidencreek.net/calendar/park-and-recreation-board-meeting-19/2027-07-22/
LOCATION:Parks and Recreation Board\, 1 Quarry Road\, Reading\, PA\, 19605\, United States
CATEGORIES:Meeting,Parks and Recreation Board
END:VEVENT
BEGIN:VEVENT
DTSTART;TZID=America/New_York:20270826T180000
DTEND;TZID=America/New_York:20270826T200000
DTSTAMP:20260423T142013
CREATED:20251117T142712Z
LAST-MODIFIED:20251117T185212Z
UID:10000989-1819303200-1819310400@maidencreek.net
SUMMARY:Park and Recreation Board Meeting
DESCRIPTION:
URL:https://maidencreek.net/calendar/park-and-recreation-board-meeting-19/2027-08-26/
LOCATION:Parks and Recreation Board\, 1 Quarry Road\, Reading\, PA\, 19605\, United States
CATEGORIES:Meeting,Parks and Recreation Board
END:VEVENT
BEGIN:VEVENT
DTSTART;TZID=America/New_York:20270923T180000
DTEND;TZID=America/New_York:20270923T200000
DTSTAMP:20260423T142013
CREATED:20251117T142712Z
LAST-MODIFIED:20251117T185212Z
UID:10000990-1821722400-1821729600@maidencreek.net
SUMMARY:Park and Recreation Board Meeting
DESCRIPTION:
URL:https://maidencreek.net/calendar/park-and-recreation-board-meeting-19/2027-09-23/
LOCATION:Parks and Recreation Board\, 1 Quarry Road\, Reading\, PA\, 19605\, United States
CATEGORIES:Meeting,Parks and Recreation Board
END:VEVENT
BEGIN:VEVENT
DTSTART;TZID=America/New_York:20271028T180000
DTEND;TZID=America/New_York:20271028T200000
DTSTAMP:20260423T142013
CREATED:20251117T142712Z
LAST-MODIFIED:20251117T185212Z
UID:10000991-1824746400-1824753600@maidencreek.net
SUMMARY:Park and Recreation Board Meeting
DESCRIPTION:
URL:https://maidencreek.net/calendar/park-and-recreation-board-meeting-19/2027-10-28/
LOCATION:Parks and Recreation Board\, 1 Quarry Road\, Reading\, PA\, 19605\, United States
CATEGORIES:Meeting,Parks and Recreation Board
END:VEVENT
BEGIN:VEVENT
DTSTART;TZID=America/New_York:20271125T180000
DTEND;TZID=America/New_York:20271125T200000
DTSTAMP:20260423T142013
CREATED:20251117T142712Z
LAST-MODIFIED:20251117T185212Z
UID:10000992-1827165600-1827172800@maidencreek.net
SUMMARY:Park and Recreation Board Meeting
DESCRIPTION:
URL:https://maidencreek.net/calendar/park-and-recreation-board-meeting-19/2027-11-25/
LOCATION:Parks and Recreation Board\, 1 Quarry Road\, Reading\, PA\, 19605\, United States
CATEGORIES:Meeting,Parks and Recreation Board
END:VEVENT
BEGIN:VEVENT
DTSTART;TZID=America/New_York:20271223T180000
DTEND;TZID=America/New_York:20271223T200000
DTSTAMP:20260423T142013
CREATED:20251117T142712Z
LAST-MODIFIED:20251117T185212Z
UID:10000993-1829584800-1829592000@maidencreek.net
SUMMARY:Park and Recreation Board Meeting
DESCRIPTION:
URL:https://maidencreek.net/calendar/park-and-recreation-board-meeting-19/2027-12-23/
LOCATION:Parks and Recreation Board\, 1 Quarry Road\, Reading\, PA\, 19605\, United States
CATEGORIES:Meeting,Parks and Recreation Board
END:VEVENT
BEGIN:VEVENT
DTSTART;TZID=America/New_York:20280127T180000
DTEND;TZID=America/New_York:20280127T200000
DTSTAMP:20260423T142013
CREATED:20251117T142712Z
LAST-MODIFIED:20251117T185212Z
UID:10000994-1832608800-1832616000@maidencreek.net
SUMMARY:Park and Recreation Board Meeting
DESCRIPTION:
URL:https://maidencreek.net/calendar/park-and-recreation-board-meeting-19/2028-01-27/
LOCATION:Parks and Recreation Board\, 1 Quarry Road\, Reading\, PA\, 19605\, United States
CATEGORIES:Meeting,Parks and Recreation Board
END:VEVENT
BEGIN:VEVENT
DTSTART;TZID=America/New_York:20280224T180000
DTEND;TZID=America/New_York:20280224T200000
DTSTAMP:20260423T142013
CREATED:20251117T142712Z
LAST-MODIFIED:20251117T185212Z
UID:10000995-1835028000-1835035200@maidencreek.net
SUMMARY:Park and Recreation Board Meeting
DESCRIPTION:
URL:https://maidencreek.net/calendar/park-and-recreation-board-meeting-19/2028-02-24/
LOCATION:Parks and Recreation Board\, 1 Quarry Road\, Reading\, PA\, 19605\, United States
CATEGORIES:Meeting,Parks and Recreation Board
END:VEVENT
BEGIN:VEVENT
DTSTART;TZID=America/New_York:20280323T180000
DTEND;TZID=America/New_York:20280323T200000
DTSTAMP:20260423T142013
CREATED:20251117T142712Z
LAST-MODIFIED:20251117T185212Z
UID:10000996-1837447200-1837454400@maidencreek.net
SUMMARY:Park and Recreation Board Meeting
DESCRIPTION:
URL:https://maidencreek.net/calendar/park-and-recreation-board-meeting-19/2028-03-23/
LOCATION:Parks and Recreation Board\, 1 Quarry Road\, Reading\, PA\, 19605\, United States
CATEGORIES:Meeting,Parks and Recreation Board
END:VEVENT
BEGIN:VEVENT
DTSTART;TZID=America/New_York:20280427T180000
DTEND;TZID=America/New_York:20280427T200000
DTSTAMP:20260423T142013
CREATED:20251117T142712Z
LAST-MODIFIED:20251117T185212Z
UID:10000997-1840471200-1840478400@maidencreek.net
SUMMARY:Park and Recreation Board Meeting
DESCRIPTION:
URL:https://maidencreek.net/calendar/park-and-recreation-board-meeting-19/2028-04-27/
LOCATION:Parks and Recreation Board\, 1 Quarry Road\, Reading\, PA\, 19605\, United States
CATEGORIES:Meeting,Parks and Recreation Board
END:VEVENT
BEGIN:VEVENT
DTSTART;TZID=America/New_York:20280525T180000
DTEND;TZID=America/New_York:20280525T200000
DTSTAMP:20260423T142013
CREATED:20251117T142712Z
LAST-MODIFIED:20251117T185212Z
UID:10000998-1842890400-1842897600@maidencreek.net
SUMMARY:Park and Recreation Board Meeting
DESCRIPTION:
URL:https://maidencreek.net/calendar/park-and-recreation-board-meeting-19/2028-05-25/
LOCATION:Parks and Recreation Board\, 1 Quarry Road\, Reading\, PA\, 19605\, United States
CATEGORIES:Meeting,Parks and Recreation Board
END:VEVENT
BEGIN:VEVENT
DTSTART;TZID=America/New_York:20280622T180000
DTEND;TZID=America/New_York:20280622T200000
DTSTAMP:20260423T142013
CREATED:20251117T142712Z
LAST-MODIFIED:20251117T185212Z
UID:10000999-1845309600-1845316800@maidencreek.net
SUMMARY:Park and Recreation Board Meeting
DESCRIPTION:
URL:https://maidencreek.net/calendar/park-and-recreation-board-meeting-19/2028-06-22/
LOCATION:Parks and Recreation Board\, 1 Quarry Road\, Reading\, PA\, 19605\, United States
CATEGORIES:Meeting,Parks and Recreation Board
END:VEVENT
BEGIN:VEVENT
DTSTART;TZID=America/New_York:20280727T180000
DTEND;TZID=America/New_York:20280727T200000
DTSTAMP:20260423T142013
CREATED:20251117T142712Z
LAST-MODIFIED:20251117T185212Z
UID:10001000-1848333600-1848340800@maidencreek.net
SUMMARY:Park and Recreation Board Meeting
DESCRIPTION:
URL:https://maidencreek.net/calendar/park-and-recreation-board-meeting-19/2028-07-27/
LOCATION:Parks and Recreation Board\, 1 Quarry Road\, Reading\, PA\, 19605\, United States
CATEGORIES:Meeting,Parks and Recreation Board
END:VEVENT
BEGIN:VEVENT
DTSTART;TZID=America/New_York:20280824T180000
DTEND;TZID=America/New_York:20280824T200000
DTSTAMP:20260423T142013
CREATED:20251117T142712Z
LAST-MODIFIED:20251117T185212Z
UID:10001001-1850752800-1850760000@maidencreek.net
SUMMARY:Park and Recreation Board Meeting
DESCRIPTION:
URL:https://maidencreek.net/calendar/park-and-recreation-board-meeting-19/2028-08-24/
LOCATION:Parks and Recreation Board\, 1 Quarry Road\, Reading\, PA\, 19605\, United States
CATEGORIES:Meeting,Parks and Recreation Board
END:VEVENT
BEGIN:VEVENT
DTSTART;TZID=America/New_York:20280928T180000
DTEND;TZID=America/New_York:20280928T200000
DTSTAMP:20260423T142013
CREATED:20251117T142712Z
LAST-MODIFIED:20251117T185212Z
UID:10001002-1853776800-1853784000@maidencreek.net
SUMMARY:Park and Recreation Board Meeting
DESCRIPTION:
URL:https://maidencreek.net/calendar/park-and-recreation-board-meeting-19/2028-09-28/
LOCATION:Parks and Recreation Board\, 1 Quarry Road\, Reading\, PA\, 19605\, United States
CATEGORIES:Meeting,Parks and Recreation Board
END:VEVENT
BEGIN:VEVENT
DTSTART;TZID=America/New_York:20281026T180000
DTEND;TZID=America/New_York:20281026T200000
DTSTAMP:20260423T142013
CREATED:20251117T142712Z
LAST-MODIFIED:20251117T185212Z
UID:10001003-1856196000-1856203200@maidencreek.net
SUMMARY:Park and Recreation Board Meeting
DESCRIPTION:
URL:https://maidencreek.net/calendar/park-and-recreation-board-meeting-19/2028-10-26/
LOCATION:Parks and Recreation Board\, 1 Quarry Road\, Reading\, PA\, 19605\, United States
CATEGORIES:Meeting,Parks and Recreation Board
END:VEVENT
BEGIN:VEVENT
DTSTART;TZID=America/New_York:20281123T180000
DTEND;TZID=America/New_York:20281123T200000
DTSTAMP:20260423T142013
CREATED:20251117T142712Z
LAST-MODIFIED:20251117T185212Z
UID:10001004-1858615200-1858622400@maidencreek.net
SUMMARY:Park and Recreation Board Meeting
DESCRIPTION:
URL:https://maidencreek.net/calendar/park-and-recreation-board-meeting-19/2028-11-23/
LOCATION:Parks and Recreation Board\, 1 Quarry Road\, Reading\, PA\, 19605\, United States
CATEGORIES:Meeting,Parks and Recreation Board
END:VEVENT
BEGIN:VEVENT
DTSTART;TZID=America/New_York:20281228T180000
DTEND;TZID=America/New_York:20281228T200000
DTSTAMP:20260423T142013
CREATED:20251117T142712Z
LAST-MODIFIED:20251117T185212Z
UID:10001005-1861639200-1861646400@maidencreek.net
SUMMARY:Park and Recreation Board Meeting
DESCRIPTION:
URL:https://maidencreek.net/calendar/park-and-recreation-board-meeting-19/2028-12-28/
LOCATION:Parks and Recreation Board\, 1 Quarry Road\, Reading\, PA\, 19605\, United States
CATEGORIES:Meeting,Parks and Recreation Board
END:VEVENT
BEGIN:VEVENT
DTSTART;TZID=America/New_York:20290125T180000
DTEND;TZID=America/New_York:20290125T200000
DTSTAMP:20260423T142013
CREATED:20251117T142712Z
LAST-MODIFIED:20251117T185212Z
UID:10001006-1864058400-1864065600@maidencreek.net
SUMMARY:Park and Recreation Board Meeting
DESCRIPTION:
URL:https://maidencreek.net/calendar/park-and-recreation-board-meeting-19/2029-01-25/
LOCATION:Parks and Recreation Board\, 1 Quarry Road\, Reading\, PA\, 19605\, United States
CATEGORIES:Meeting,Parks and Recreation Board
END:VEVENT
BEGIN:VEVENT
DTSTART;TZID=America/New_York:20290222T180000
DTEND;TZID=America/New_York:20290222T200000
DTSTAMP:20260423T142013
CREATED:20251117T142712Z
LAST-MODIFIED:20251117T185212Z
UID:10001007-1866477600-1866484800@maidencreek.net
SUMMARY:Park and Recreation Board Meeting
DESCRIPTION:
URL:https://maidencreek.net/calendar/park-and-recreation-board-meeting-19/2029-02-22/
LOCATION:Parks and Recreation Board\, 1 Quarry Road\, Reading\, PA\, 19605\, United States
CATEGORIES:Meeting,Parks and Recreation Board
END:VEVENT
BEGIN:VEVENT
DTSTART;TZID=America/New_York:20290322T180000
DTEND;TZID=America/New_York:20290322T200000
DTSTAMP:20260423T142013
CREATED:20251117T142712Z
LAST-MODIFIED:20251117T185212Z
UID:10001008-1868896800-1868904000@maidencreek.net
SUMMARY:Park and Recreation Board Meeting
DESCRIPTION:
URL:https://maidencreek.net/calendar/park-and-recreation-board-meeting-19/2029-03-22/
LOCATION:Parks and Recreation Board\, 1 Quarry Road\, Reading\, PA\, 19605\, United States
CATEGORIES:Meeting,Parks and Recreation Board
END:VEVENT
BEGIN:VEVENT
DTSTART;TZID=America/New_York:20290426T180000
DTEND;TZID=America/New_York:20290426T200000
DTSTAMP:20260423T142013
CREATED:20251117T142712Z
LAST-MODIFIED:20251117T185212Z
UID:10001009-1871920800-1871928000@maidencreek.net
SUMMARY:Park and Recreation Board Meeting
DESCRIPTION:
URL:https://maidencreek.net/calendar/park-and-recreation-board-meeting-19/2029-04-26/
LOCATION:Parks and Recreation Board\, 1 Quarry Road\, Reading\, PA\, 19605\, United States
CATEGORIES:Meeting,Parks and Recreation Board
END:VEVENT
BEGIN:VEVENT
DTSTART;TZID=America/New_York:20290524T180000
DTEND;TZID=America/New_York:20290524T200000
DTSTAMP:20260423T142013
CREATED:20251117T142712Z
LAST-MODIFIED:20251117T185212Z
UID:10001010-1874340000-1874347200@maidencreek.net
SUMMARY:Park and Recreation Board Meeting
DESCRIPTION:
URL:https://maidencreek.net/calendar/park-and-recreation-board-meeting-19/2029-05-24/
LOCATION:Parks and Recreation Board\, 1 Quarry Road\, Reading\, PA\, 19605\, United States
CATEGORIES:Meeting,Parks and Recreation Board
END:VEVENT
BEGIN:VEVENT
DTSTART;TZID=America/New_York:20290628T180000
DTEND;TZID=America/New_York:20290628T200000
DTSTAMP:20260423T142013
CREATED:20251117T142712Z
LAST-MODIFIED:20251117T185212Z
UID:10001011-1877364000-1877371200@maidencreek.net
SUMMARY:Park and Recreation Board Meeting
DESCRIPTION:
URL:https://maidencreek.net/calendar/park-and-recreation-board-meeting-19/2029-06-28/
LOCATION:Parks and Recreation Board\, 1 Quarry Road\, Reading\, PA\, 19605\, United States
CATEGORIES:Meeting,Parks and Recreation Board
END:VEVENT
BEGIN:VEVENT
DTSTART;TZID=America/New_York:20290726T180000
DTEND;TZID=America/New_York:20290726T200000
DTSTAMP:20260423T142013
CREATED:20251117T142712Z
LAST-MODIFIED:20251117T185212Z
UID:10001012-1879783200-1879790400@maidencreek.net
SUMMARY:Park and Recreation Board Meeting
DESCRIPTION:
URL:https://maidencreek.net/calendar/park-and-recreation-board-meeting-19/2029-07-26/
LOCATION:Parks and Recreation Board\, 1 Quarry Road\, Reading\, PA\, 19605\, United States
CATEGORIES:Meeting,Parks and Recreation Board
END:VEVENT
BEGIN:VEVENT
DTSTART;TZID=America/New_York:20290823T180000
DTEND;TZID=America/New_York:20290823T200000
DTSTAMP:20260423T142013
CREATED:20251117T142712Z
LAST-MODIFIED:20251117T185212Z
UID:10001013-1882202400-1882209600@maidencreek.net
SUMMARY:Park and Recreation Board Meeting
DESCRIPTION:
URL:https://maidencreek.net/calendar/park-and-recreation-board-meeting-19/2029-08-23/
LOCATION:Parks and Recreation Board\, 1 Quarry Road\, Reading\, PA\, 19605\, United States
CATEGORIES:Meeting,Parks and Recreation Board
END:VEVENT
BEGIN:VEVENT
DTSTART;TZID=America/New_York:20290927T180000
DTEND;TZID=America/New_York:20290927T200000
DTSTAMP:20260423T142013
CREATED:20251117T142712Z
LAST-MODIFIED:20251117T185212Z
UID:10001014-1885226400-1885233600@maidencreek.net
SUMMARY:Park and Recreation Board Meeting
DESCRIPTION:
URL:https://maidencreek.net/calendar/park-and-recreation-board-meeting-19/2029-09-27/
LOCATION:Parks and Recreation Board\, 1 Quarry Road\, Reading\, PA\, 19605\, United States
CATEGORIES:Meeting,Parks and Recreation Board
END:VEVENT
BEGIN:VEVENT
DTSTART;TZID=America/New_York:20291025T180000
DTEND;TZID=America/New_York:20291025T200000
DTSTAMP:20260423T142013
CREATED:20251117T142712Z
LAST-MODIFIED:20251117T185212Z
UID:10001015-1887645600-1887652800@maidencreek.net
SUMMARY:Park and Recreation Board Meeting
DESCRIPTION:
URL:https://maidencreek.net/calendar/park-and-recreation-board-meeting-19/2029-10-25/
LOCATION:Parks and Recreation Board\, 1 Quarry Road\, Reading\, PA\, 19605\, United States
CATEGORIES:Meeting,Parks and Recreation Board
END:VEVENT
BEGIN:VEVENT
DTSTART;TZID=America/New_York:20291122T180000
DTEND;TZID=America/New_York:20291122T200000
DTSTAMP:20260423T142013
CREATED:20251117T142712Z
LAST-MODIFIED:20251117T185212Z
UID:10001016-1890064800-1890072000@maidencreek.net
SUMMARY:Park and Recreation Board Meeting
DESCRIPTION:
URL:https://maidencreek.net/calendar/park-and-recreation-board-meeting-19/2029-11-22/
LOCATION:Parks and Recreation Board\, 1 Quarry Road\, Reading\, PA\, 19605\, United States
CATEGORIES:Meeting,Parks and Recreation Board
END:VEVENT
BEGIN:VEVENT
DTSTART;TZID=America/New_York:20291227T180000
DTEND;TZID=America/New_York:20291227T200000
DTSTAMP:20260423T142013
CREATED:20251117T142712Z
LAST-MODIFIED:20251117T185212Z
UID:10001017-1893088800-1893096000@maidencreek.net
SUMMARY:Park and Recreation Board Meeting
DESCRIPTION:
URL:https://maidencreek.net/calendar/park-and-recreation-board-meeting-19/2029-12-27/
LOCATION:Parks and Recreation Board\, 1 Quarry Road\, Reading\, PA\, 19605\, United States
CATEGORIES:Meeting,Parks and Recreation Board
END:VEVENT
END:VCALENDAR