BEGIN:VCALENDAR
VERSION:2.0
PRODID:-//Maiden Creek - ECPv6.15.15//NONSGML v1.0//EN
CALSCALE:GREGORIAN
METHOD:PUBLISH
X-WR-CALNAME:Maiden Creek
X-ORIGINAL-URL:https://maidencreek.net
X-WR-CALDESC:Events for Maiden Creek
REFRESH-INTERVAL;VALUE=DURATION:PT1H
X-Robots-Tag:noindex
X-PUBLISHED-TTL:PT1H
BEGIN:VTIMEZONE
TZID:America/New_York
BEGIN:DAYLIGHT
TZOFFSETFROM:-0500
TZOFFSETTO:-0400
TZNAME:EDT
DTSTART:20270314T070000
END:DAYLIGHT
BEGIN:STANDARD
TZOFFSETFROM:-0400
TZOFFSETTO:-0500
TZNAME:EST
DTSTART:20271107T060000
END:STANDARD
BEGIN:DAYLIGHT
TZOFFSETFROM:-0500
TZOFFSETTO:-0400
TZNAME:EDT
DTSTART:20280312T070000
END:DAYLIGHT
BEGIN:STANDARD
TZOFFSETFROM:-0400
TZOFFSETTO:-0500
TZNAME:EST
DTSTART:20281105T060000
END:STANDARD
BEGIN:DAYLIGHT
TZOFFSETFROM:-0500
TZOFFSETTO:-0400
TZNAME:EDT
DTSTART:20290311T070000
END:DAYLIGHT
BEGIN:STANDARD
TZOFFSETFROM:-0400
TZOFFSETTO:-0500
TZNAME:EST
DTSTART:20291104T060000
END:STANDARD
BEGIN:DAYLIGHT
TZOFFSETFROM:-0500
TZOFFSETTO:-0400
TZNAME:EDT
DTSTART:20300310T070000
END:DAYLIGHT
BEGIN:STANDARD
TZOFFSETFROM:-0400
TZOFFSETTO:-0500
TZNAME:EST
DTSTART:20301103T060000
END:STANDARD
END:VTIMEZONE
BEGIN:VEVENT
DTSTART;TZID=America/New_York:20281025T180000
DTEND;TZID=America/New_York:20281025T200000
DTSTAMP:20260419T111446
CREATED:20251117T181913Z
LAST-MODIFIED:20251117T184459Z
UID:10000949-1856109600-1856116800@maidencreek.net
SUMMARY:Planning Commission Regular Meeting
DESCRIPTION:A regular meeting of the Township’s Planning Commission\, held at the Township Building at 1 Quarry Road\, Reading\, PA 19605.
URL:https://maidencreek.net/calendar/planning-commission-regular-meeting-20-3/2028-10-25/
LOCATION:Planning Commission\, 1 Quarry Road\, Reading\, PA\, 19605\, United States
CATEGORIES:Meeting,Planning Commission
END:VEVENT
BEGIN:VEVENT
DTSTART;TZID=America/New_York:20281026T180000
DTEND;TZID=America/New_York:20281026T200000
DTSTAMP:20260419T111446
CREATED:20251117T142712Z
LAST-MODIFIED:20251117T185212Z
UID:10001003-1856196000-1856203200@maidencreek.net
SUMMARY:Park and Recreation Board Meeting
DESCRIPTION:
URL:https://maidencreek.net/calendar/park-and-recreation-board-meeting-19/2028-10-26/
LOCATION:Parks and Recreation Board\, 1 Quarry Road\, Reading\, PA\, 19605\, United States
CATEGORIES:Meeting,Parks and Recreation Board
END:VEVENT
BEGIN:VEVENT
DTSTART;VALUE=DATE:20281027
DTEND;VALUE=DATE:20281028
DTSTAMP:20260419T111446
CREATED:20240515T010431Z
LAST-MODIFIED:20240515T011328Z
UID:10000180-1856217600-1856303999@maidencreek.net
SUMMARY:Recycling Day for Red Zone
DESCRIPTION:
URL:https://maidencreek.net/calendar/recycling-day-for-red-zone/2028-10-27/
LOCATION:PA
CATEGORIES:Recycling
END:VEVENT
BEGIN:VEVENT
DTSTART;VALUE=DATE:20281103
DTEND;VALUE=DATE:20281104
DTSTAMP:20260419T111446
CREATED:20240515T013100Z
LAST-MODIFIED:20240515T013100Z
UID:10000312-1856822400-1856908799@maidencreek.net
SUMMARY:Recycling Day for Blue Zone
DESCRIPTION:
URL:https://maidencreek.net/calendar/recycling-day-for-blue-zone/2028-11-03/
LOCATION:PA
CATEGORIES:Recycling
END:VEVENT
BEGIN:VEVENT
DTSTART;TZID=America/New_York:20281109T180000
DTEND;TZID=America/New_York:20281109T200000
DTSTAMP:20260419T111446
CREATED:20240509T161339Z
LAST-MODIFIED:20240517T153356Z
UID:10000379-1857405600-1857412800@maidencreek.net
SUMMARY:Board of Supervisors Regular Meeting
DESCRIPTION:PLEASE LOOK AT UPDATED AGENDA \nA public meeting of the Board of Supervisors\, held at the Township building at 1 Quarry Road\, Reading\, PA 19605.
URL:https://maidencreek.net/calendar/board-of-supervisors-regular-meeting/2028-11-09/
LOCATION:Board of Supervisors\, 1 Quarry Road\, Reading\, PA\, 19605\, United States
CATEGORIES:Board of Supervisors,Meeting
END:VEVENT
BEGIN:VEVENT
DTSTART;VALUE=DATE:20281110
DTEND;VALUE=DATE:20281111
DTSTAMP:20260419T111446
CREATED:20240515T010431Z
LAST-MODIFIED:20240515T011328Z
UID:10000181-1857427200-1857513599@maidencreek.net
SUMMARY:Recycling Day for Red Zone
DESCRIPTION:
URL:https://maidencreek.net/calendar/recycling-day-for-red-zone/2028-11-10/
LOCATION:PA
CATEGORIES:Recycling
END:VEVENT
BEGIN:VEVENT
DTSTART;TZID=America/New_York:20281113T180000
DTEND;TZID=America/New_York:20281113T200000
DTSTAMP:20260419T111446
CREATED:20240515T015724Z
LAST-MODIFIED:20240515T015735Z
UID:10000440-1857751200-1857758400@maidencreek.net
SUMMARY:Northern Berks Regional Police Commission Meeting
DESCRIPTION:
URL:https://maidencreek.net/calendar/northern-berks-regional-police-commission-meeting/2028-11-13/
LOCATION:National Berks Police Commission\, 35 Ontelaunee Dr\, Reading\, PA\, 19605\, United States
CATEGORIES:Meeting,Northern Berks Regional Police Commission
END:VEVENT
BEGIN:VEVENT
DTSTART;TZID=America/New_York:20281116T110000
DTEND;TZID=America/New_York:20281116T130000
DTSTAMP:20260419T111446
CREATED:20240515T020051Z
LAST-MODIFIED:20240515T020204Z
UID:10000501-1857985200-1857992400@maidencreek.net
SUMMARY:Maidencreek Township Authority Meeting
DESCRIPTION:
URL:https://maidencreek.net/calendar/maidencreek-township-authority-meeting/2028-11-16/
LOCATION:Maidencreek Township Authority Board\, 1 Quarry Road\, Reading\, PA\, 19605\, United States
CATEGORIES:Maidencreek Township Authority,Meeting
END:VEVENT
BEGIN:VEVENT
DTSTART;VALUE=DATE:20281117
DTEND;VALUE=DATE:20281118
DTSTAMP:20260419T111446
CREATED:20240515T013100Z
LAST-MODIFIED:20240515T013100Z
UID:10000313-1858032000-1858118399@maidencreek.net
SUMMARY:Recycling Day for Blue Zone
DESCRIPTION:
URL:https://maidencreek.net/calendar/recycling-day-for-blue-zone/2028-11-17/
LOCATION:PA
CATEGORIES:Recycling
END:VEVENT
BEGIN:VEVENT
DTSTART;TZID=America/New_York:20281122T180000
DTEND;TZID=America/New_York:20281122T200000
DTSTAMP:20260419T111446
CREATED:20251117T181913Z
LAST-MODIFIED:20251117T184459Z
UID:10000950-1858528800-1858536000@maidencreek.net
SUMMARY:Planning Commission Regular Meeting
DESCRIPTION:A regular meeting of the Township’s Planning Commission\, held at the Township Building at 1 Quarry Road\, Reading\, PA 19605.
URL:https://maidencreek.net/calendar/planning-commission-regular-meeting-20-3/2028-11-22/
LOCATION:Planning Commission\, 1 Quarry Road\, Reading\, PA\, 19605\, United States
CATEGORIES:Meeting,Planning Commission
END:VEVENT
BEGIN:VEVENT
DTSTART;TZID=America/New_York:20281123T180000
DTEND;TZID=America/New_York:20281123T200000
DTSTAMP:20260419T111446
CREATED:20251117T142712Z
LAST-MODIFIED:20251117T185212Z
UID:10001004-1858615200-1858622400@maidencreek.net
SUMMARY:Park and Recreation Board Meeting
DESCRIPTION:
URL:https://maidencreek.net/calendar/park-and-recreation-board-meeting-19/2028-11-23/
LOCATION:Parks and Recreation Board\, 1 Quarry Road\, Reading\, PA\, 19605\, United States
CATEGORIES:Meeting,Parks and Recreation Board
END:VEVENT
BEGIN:VEVENT
DTSTART;VALUE=DATE:20281124
DTEND;VALUE=DATE:20281125
DTSTAMP:20260419T111446
CREATED:20240515T010431Z
LAST-MODIFIED:20240515T011328Z
UID:10000182-1858636800-1858723199@maidencreek.net
SUMMARY:Recycling Day for Red Zone
DESCRIPTION:
URL:https://maidencreek.net/calendar/recycling-day-for-red-zone/2028-11-24/
LOCATION:PA
CATEGORIES:Recycling
END:VEVENT
BEGIN:VEVENT
DTSTART;VALUE=DATE:20281201
DTEND;VALUE=DATE:20281202
DTSTAMP:20260419T111446
CREATED:20240515T013100Z
LAST-MODIFIED:20240515T013100Z
UID:10000314-1859241600-1859327999@maidencreek.net
SUMMARY:Recycling Day for Blue Zone
DESCRIPTION:
URL:https://maidencreek.net/calendar/recycling-day-for-blue-zone/2028-12-01/
LOCATION:PA
CATEGORIES:Recycling
END:VEVENT
BEGIN:VEVENT
DTSTART;VALUE=DATE:20281208
DTEND;VALUE=DATE:20281209
DTSTAMP:20260419T111446
CREATED:20240515T010431Z
LAST-MODIFIED:20240515T011328Z
UID:10000183-1859846400-1859932799@maidencreek.net
SUMMARY:Recycling Day for Red Zone
DESCRIPTION:
URL:https://maidencreek.net/calendar/recycling-day-for-red-zone/2028-12-08/
LOCATION:PA
CATEGORIES:Recycling
END:VEVENT
BEGIN:VEVENT
DTSTART;TZID=America/New_York:20281211T180000
DTEND;TZID=America/New_York:20281211T200000
DTSTAMP:20260419T111446
CREATED:20240515T015724Z
LAST-MODIFIED:20240515T015735Z
UID:10000441-1860170400-1860177600@maidencreek.net
SUMMARY:Northern Berks Regional Police Commission Meeting
DESCRIPTION:
URL:https://maidencreek.net/calendar/northern-berks-regional-police-commission-meeting/2028-12-11/
LOCATION:National Berks Police Commission\, 35 Ontelaunee Dr\, Reading\, PA\, 19605\, United States
CATEGORIES:Meeting,Northern Berks Regional Police Commission
END:VEVENT
BEGIN:VEVENT
DTSTART;TZID=America/New_York:20281214T180000
DTEND;TZID=America/New_York:20281214T200000
DTSTAMP:20260419T111446
CREATED:20240509T161339Z
LAST-MODIFIED:20240517T153356Z
UID:10000380-1860429600-1860436800@maidencreek.net
SUMMARY:Board of Supervisors Regular Meeting
DESCRIPTION:PLEASE LOOK AT UPDATED AGENDA \nA public meeting of the Board of Supervisors\, held at the Township building at 1 Quarry Road\, Reading\, PA 19605.
URL:https://maidencreek.net/calendar/board-of-supervisors-regular-meeting/2028-12-14/
LOCATION:Board of Supervisors\, 1 Quarry Road\, Reading\, PA\, 19605\, United States
CATEGORIES:Board of Supervisors,Meeting
END:VEVENT
BEGIN:VEVENT
DTSTART;VALUE=DATE:20281215
DTEND;VALUE=DATE:20281216
DTSTAMP:20260419T111446
CREATED:20240515T013100Z
LAST-MODIFIED:20240515T013100Z
UID:10000315-1860451200-1860537599@maidencreek.net
SUMMARY:Recycling Day for Blue Zone
DESCRIPTION:
URL:https://maidencreek.net/calendar/recycling-day-for-blue-zone/2028-12-15/
LOCATION:PA
CATEGORIES:Recycling
END:VEVENT
BEGIN:VEVENT
DTSTART;TZID=America/New_York:20281221T110000
DTEND;TZID=America/New_York:20281221T130000
DTSTAMP:20260419T111446
CREATED:20240515T020051Z
LAST-MODIFIED:20240515T020204Z
UID:10000502-1861009200-1861016400@maidencreek.net
SUMMARY:Maidencreek Township Authority Meeting
DESCRIPTION:
URL:https://maidencreek.net/calendar/maidencreek-township-authority-meeting/2028-12-21/
LOCATION:Maidencreek Township Authority Board\, 1 Quarry Road\, Reading\, PA\, 19605\, United States
CATEGORIES:Maidencreek Township Authority,Meeting
END:VEVENT
BEGIN:VEVENT
DTSTART;VALUE=DATE:20281222
DTEND;VALUE=DATE:20281223
DTSTAMP:20260419T111446
CREATED:20240515T010431Z
LAST-MODIFIED:20240515T011328Z
UID:10000184-1861056000-1861142399@maidencreek.net
SUMMARY:Recycling Day for Red Zone
DESCRIPTION:
URL:https://maidencreek.net/calendar/recycling-day-for-red-zone/2028-12-22/
LOCATION:PA
CATEGORIES:Recycling
END:VEVENT
BEGIN:VEVENT
DTSTART;TZID=America/New_York:20281227T180000
DTEND;TZID=America/New_York:20281227T200000
DTSTAMP:20260419T111446
CREATED:20251117T181913Z
LAST-MODIFIED:20251117T184459Z
UID:10000951-1861552800-1861560000@maidencreek.net
SUMMARY:Planning Commission Regular Meeting
DESCRIPTION:A regular meeting of the Township’s Planning Commission\, held at the Township Building at 1 Quarry Road\, Reading\, PA 19605.
URL:https://maidencreek.net/calendar/planning-commission-regular-meeting-20-3/2028-12-27/
LOCATION:Planning Commission\, 1 Quarry Road\, Reading\, PA\, 19605\, United States
CATEGORIES:Meeting,Planning Commission
END:VEVENT
BEGIN:VEVENT
DTSTART;TZID=America/New_York:20281228T180000
DTEND;TZID=America/New_York:20281228T200000
DTSTAMP:20260419T111446
CREATED:20251117T142712Z
LAST-MODIFIED:20251117T185212Z
UID:10001005-1861639200-1861646400@maidencreek.net
SUMMARY:Park and Recreation Board Meeting
DESCRIPTION:
URL:https://maidencreek.net/calendar/park-and-recreation-board-meeting-19/2028-12-28/
LOCATION:Parks and Recreation Board\, 1 Quarry Road\, Reading\, PA\, 19605\, United States
CATEGORIES:Meeting,Parks and Recreation Board
END:VEVENT
BEGIN:VEVENT
DTSTART;VALUE=DATE:20281229
DTEND;VALUE=DATE:20281230
DTSTAMP:20260419T111446
CREATED:20240515T013100Z
LAST-MODIFIED:20240515T013100Z
UID:10000316-1861660800-1861747199@maidencreek.net
SUMMARY:Recycling Day for Blue Zone
DESCRIPTION:
URL:https://maidencreek.net/calendar/recycling-day-for-blue-zone/2028-12-29/
LOCATION:PA
CATEGORIES:Recycling
END:VEVENT
BEGIN:VEVENT
DTSTART;VALUE=DATE:20290105
DTEND;VALUE=DATE:20290106
DTSTAMP:20260419T111446
CREATED:20240515T010431Z
LAST-MODIFIED:20240515T011328Z
UID:10000185-1862265600-1862351999@maidencreek.net
SUMMARY:Recycling Day for Red Zone
DESCRIPTION:
URL:https://maidencreek.net/calendar/recycling-day-for-red-zone/2029-01-05/
LOCATION:PA
CATEGORIES:Recycling
END:VEVENT
BEGIN:VEVENT
DTSTART;TZID=America/New_York:20290108T180000
DTEND;TZID=America/New_York:20290108T200000
DTSTAMP:20260419T111446
CREATED:20240515T015724Z
LAST-MODIFIED:20240515T015735Z
UID:10000442-1862589600-1862596800@maidencreek.net
SUMMARY:Northern Berks Regional Police Commission Meeting
DESCRIPTION:
URL:https://maidencreek.net/calendar/northern-berks-regional-police-commission-meeting/2029-01-08/
LOCATION:National Berks Police Commission\, 35 Ontelaunee Dr\, Reading\, PA\, 19605\, United States
CATEGORIES:Meeting,Northern Berks Regional Police Commission
END:VEVENT
BEGIN:VEVENT
DTSTART;TZID=America/New_York:20290111T180000
DTEND;TZID=America/New_York:20290111T200000
DTSTAMP:20260419T111446
CREATED:20240509T161339Z
LAST-MODIFIED:20240517T153356Z
UID:10000381-1862848800-1862856000@maidencreek.net
SUMMARY:Board of Supervisors Regular Meeting
DESCRIPTION:PLEASE LOOK AT UPDATED AGENDA \nA public meeting of the Board of Supervisors\, held at the Township building at 1 Quarry Road\, Reading\, PA 19605.
URL:https://maidencreek.net/calendar/board-of-supervisors-regular-meeting/2029-01-11/
LOCATION:Board of Supervisors\, 1 Quarry Road\, Reading\, PA\, 19605\, United States
CATEGORIES:Board of Supervisors,Meeting
END:VEVENT
BEGIN:VEVENT
DTSTART;VALUE=DATE:20290112
DTEND;VALUE=DATE:20290113
DTSTAMP:20260419T111446
CREATED:20240515T013100Z
LAST-MODIFIED:20240515T013100Z
UID:10000317-1862870400-1862956799@maidencreek.net
SUMMARY:Recycling Day for Blue Zone
DESCRIPTION:
URL:https://maidencreek.net/calendar/recycling-day-for-blue-zone/2029-01-12/
LOCATION:PA
CATEGORIES:Recycling
END:VEVENT
BEGIN:VEVENT
DTSTART;TZID=America/New_York:20290118T110000
DTEND;TZID=America/New_York:20290118T130000
DTSTAMP:20260419T111446
CREATED:20240515T020051Z
LAST-MODIFIED:20240515T020204Z
UID:10000503-1863428400-1863435600@maidencreek.net
SUMMARY:Maidencreek Township Authority Meeting
DESCRIPTION:
URL:https://maidencreek.net/calendar/maidencreek-township-authority-meeting/2029-01-18/
LOCATION:Maidencreek Township Authority Board\, 1 Quarry Road\, Reading\, PA\, 19605\, United States
CATEGORIES:Maidencreek Township Authority,Meeting
END:VEVENT
BEGIN:VEVENT
DTSTART;VALUE=DATE:20290119
DTEND;VALUE=DATE:20290120
DTSTAMP:20260419T111446
CREATED:20240515T010431Z
LAST-MODIFIED:20240515T011328Z
UID:10000186-1863475200-1863561599@maidencreek.net
SUMMARY:Recycling Day for Red Zone
DESCRIPTION:
URL:https://maidencreek.net/calendar/recycling-day-for-red-zone/2029-01-19/
LOCATION:PA
CATEGORIES:Recycling
END:VEVENT
BEGIN:VEVENT
DTSTART;TZID=America/New_York:20290124T180000
DTEND;TZID=America/New_York:20290124T200000
DTSTAMP:20260419T111446
CREATED:20251117T181913Z
LAST-MODIFIED:20251117T184459Z
UID:10000952-1863972000-1863979200@maidencreek.net
SUMMARY:Planning Commission Regular Meeting
DESCRIPTION:A regular meeting of the Township’s Planning Commission\, held at the Township Building at 1 Quarry Road\, Reading\, PA 19605.
URL:https://maidencreek.net/calendar/planning-commission-regular-meeting-20-3/2029-01-24/
LOCATION:Planning Commission\, 1 Quarry Road\, Reading\, PA\, 19605\, United States
CATEGORIES:Meeting,Planning Commission
END:VEVENT
BEGIN:VEVENT
DTSTART;TZID=America/New_York:20290125T180000
DTEND;TZID=America/New_York:20290125T200000
DTSTAMP:20260419T111446
CREATED:20251117T142712Z
LAST-MODIFIED:20251117T185212Z
UID:10001006-1864058400-1864065600@maidencreek.net
SUMMARY:Park and Recreation Board Meeting
DESCRIPTION:
URL:https://maidencreek.net/calendar/park-and-recreation-board-meeting-19/2029-01-25/
LOCATION:Parks and Recreation Board\, 1 Quarry Road\, Reading\, PA\, 19605\, United States
CATEGORIES:Meeting,Parks and Recreation Board
END:VEVENT
END:VCALENDAR