BEGIN:VCALENDAR
VERSION:2.0
PRODID:-//Maiden Creek - ECPv6.15.15//NONSGML v1.0//EN
CALSCALE:GREGORIAN
METHOD:PUBLISH
X-ORIGINAL-URL:https://maidencreek.net
X-WR-CALDESC:Events for Maiden Creek
REFRESH-INTERVAL;VALUE=DURATION:PT1H
X-Robots-Tag:noindex
X-PUBLISHED-TTL:PT1H
BEGIN:VTIMEZONE
TZID:America/New_York
BEGIN:DAYLIGHT
TZOFFSETFROM:-0500
TZOFFSETTO:-0400
TZNAME:EDT
DTSTART:20280312T070000
END:DAYLIGHT
BEGIN:STANDARD
TZOFFSETFROM:-0400
TZOFFSETTO:-0500
TZNAME:EST
DTSTART:20281105T060000
END:STANDARD
BEGIN:DAYLIGHT
TZOFFSETFROM:-0500
TZOFFSETTO:-0400
TZNAME:EDT
DTSTART:20290311T070000
END:DAYLIGHT
BEGIN:STANDARD
TZOFFSETFROM:-0400
TZOFFSETTO:-0500
TZNAME:EST
DTSTART:20291104T060000
END:STANDARD
BEGIN:DAYLIGHT
TZOFFSETFROM:-0500
TZOFFSETTO:-0400
TZNAME:EDT
DTSTART:20300310T070000
END:DAYLIGHT
BEGIN:STANDARD
TZOFFSETFROM:-0400
TZOFFSETTO:-0500
TZNAME:EST
DTSTART:20301103T060000
END:STANDARD
END:VTIMEZONE
BEGIN:VEVENT
DTSTART;TZID=America/New_York:20290510T180000
DTEND;TZID=America/New_York:20290510T200000
DTSTAMP:20260419T213331
CREATED:20240509T161339Z
LAST-MODIFIED:20240517T153356Z
UID:10000385-1873130400-1873137600@maidencreek.net
SUMMARY:Board of Supervisors Regular Meeting
DESCRIPTION:PLEASE LOOK AT UPDATED AGENDA \nA public meeting of the Board of Supervisors\, held at the Township building at 1 Quarry Road\, Reading\, PA 19605.
URL:https://maidencreek.net/calendar/board-of-supervisors-regular-meeting/2029-05-10/
LOCATION:Board of Supervisors\, 1 Quarry Road\, Reading\, PA\, 19605\, United States
CATEGORIES:Board of Supervisors,Meeting
END:VEVENT
BEGIN:VEVENT
DTSTART;VALUE=DATE:20290511
DTEND;VALUE=DATE:20290512
DTSTAMP:20260419T213331
CREATED:20240515T010431Z
LAST-MODIFIED:20240515T011328Z
UID:10000194-1873152000-1873238399@maidencreek.net
SUMMARY:Recycling Day for Red Zone
DESCRIPTION:
URL:https://maidencreek.net/calendar/recycling-day-for-red-zone/2029-05-11/
LOCATION:PA
CATEGORIES:Recycling
END:VEVENT
BEGIN:VEVENT
DTSTART;TZID=America/New_York:20290514T180000
DTEND;TZID=America/New_York:20290514T200000
DTSTAMP:20260419T213331
CREATED:20240515T015724Z
LAST-MODIFIED:20240515T015735Z
UID:10000446-1873476000-1873483200@maidencreek.net
SUMMARY:Northern Berks Regional Police Commission Meeting
DESCRIPTION:
URL:https://maidencreek.net/calendar/northern-berks-regional-police-commission-meeting/2029-05-14/
LOCATION:National Berks Police Commission\, 35 Ontelaunee Dr\, Reading\, PA\, 19605\, United States
CATEGORIES:Meeting,Northern Berks Regional Police Commission
END:VEVENT
BEGIN:VEVENT
DTSTART;VALUE=DATE:20290518
DTEND;VALUE=DATE:20290519
DTSTAMP:20260419T213331
CREATED:20240515T013100Z
LAST-MODIFIED:20240515T013100Z
UID:10001042-1873756800-1873843199@maidencreek.net
SUMMARY:Recycling Day for Blue Zone
DESCRIPTION:
URL:https://maidencreek.net/calendar/recycling-day-for-blue-zone/2029-05-18/
LOCATION:PA
CATEGORIES:Recycling
END:VEVENT
BEGIN:VEVENT
DTSTART;TZID=America/New_York:20290523T180000
DTEND;TZID=America/New_York:20290523T200000
DTSTAMP:20260419T213331
CREATED:20251117T181913Z
LAST-MODIFIED:20251117T184459Z
UID:10000956-1874253600-1874260800@maidencreek.net
SUMMARY:Planning Commission Regular Meeting
DESCRIPTION:A regular meeting of the Township’s Planning Commission\, held at the Township Building at 1 Quarry Road\, Reading\, PA 19605.
URL:https://maidencreek.net/calendar/planning-commission-regular-meeting-20-3/2029-05-23/
LOCATION:Planning Commission\, 1 Quarry Road\, Reading\, PA\, 19605\, United States
CATEGORIES:Meeting,Planning Commission
END:VEVENT
BEGIN:VEVENT
DTSTART;TZID=America/New_York:20290524T180000
DTEND;TZID=America/New_York:20290524T200000
DTSTAMP:20260419T213331
CREATED:20251117T142712Z
LAST-MODIFIED:20251117T185212Z
UID:10001010-1874340000-1874347200@maidencreek.net
SUMMARY:Park and Recreation Board Meeting
DESCRIPTION:
URL:https://maidencreek.net/calendar/park-and-recreation-board-meeting-19/2029-05-24/
LOCATION:Parks and Recreation Board\, 1 Quarry Road\, Reading\, PA\, 19605\, United States
CATEGORIES:Meeting,Parks and Recreation Board
END:VEVENT
BEGIN:VEVENT
DTSTART;VALUE=DATE:20290525
DTEND;VALUE=DATE:20290526
DTSTAMP:20260419T213331
CREATED:20240515T010431Z
LAST-MODIFIED:20240515T011328Z
UID:10000864-1874361600-1874447999@maidencreek.net
SUMMARY:Recycling Day for Red Zone
DESCRIPTION:
URL:https://maidencreek.net/calendar/recycling-day-for-red-zone/2029-05-25/
LOCATION:PA
CATEGORIES:Recycling
END:VEVENT
BEGIN:VEVENT
DTSTART;VALUE=DATE:20290601
DTEND;VALUE=DATE:20290602
DTSTAMP:20260419T213331
CREATED:20240515T013100Z
LAST-MODIFIED:20240515T013100Z
UID:10001043-1874966400-1875052799@maidencreek.net
SUMMARY:Recycling Day for Blue Zone
DESCRIPTION:
URL:https://maidencreek.net/calendar/recycling-day-for-blue-zone/2029-06-01/
LOCATION:PA
CATEGORIES:Recycling
END:VEVENT
BEGIN:VEVENT
DTSTART;VALUE=DATE:20290608
DTEND;VALUE=DATE:20290609
DTSTAMP:20260419T213331
CREATED:20240515T010431Z
LAST-MODIFIED:20240515T011328Z
UID:10000865-1875571200-1875657599@maidencreek.net
SUMMARY:Recycling Day for Red Zone
DESCRIPTION:
URL:https://maidencreek.net/calendar/recycling-day-for-red-zone/2029-06-08/
LOCATION:PA
CATEGORIES:Recycling
END:VEVENT
BEGIN:VEVENT
DTSTART;TZID=America/New_York:20290614T180000
DTEND;TZID=America/New_York:20290614T200000
DTSTAMP:20260419T213331
CREATED:20240509T161339Z
LAST-MODIFIED:20240517T153356Z
UID:10000753-1876154400-1876161600@maidencreek.net
SUMMARY:Board of Supervisors Regular Meeting
DESCRIPTION:PLEASE LOOK AT UPDATED AGENDA \nA public meeting of the Board of Supervisors\, held at the Township building at 1 Quarry Road\, Reading\, PA 19605.
URL:https://maidencreek.net/calendar/board-of-supervisors-regular-meeting/2029-06-14/
LOCATION:Board of Supervisors\, 1 Quarry Road\, Reading\, PA\, 19605\, United States
CATEGORIES:Board of Supervisors,Meeting
END:VEVENT
BEGIN:VEVENT
DTSTART;VALUE=DATE:20290615
DTEND;VALUE=DATE:20290616
DTSTAMP:20260419T213331
CREATED:20240515T013100Z
LAST-MODIFIED:20240515T013100Z
UID:10001044-1876176000-1876262399@maidencreek.net
SUMMARY:Recycling Day for Blue Zone
DESCRIPTION:
URL:https://maidencreek.net/calendar/recycling-day-for-blue-zone/2029-06-15/
LOCATION:PA
CATEGORIES:Recycling
END:VEVENT
BEGIN:VEVENT
DTSTART;VALUE=DATE:20290622
DTEND;VALUE=DATE:20290623
DTSTAMP:20260419T213331
CREATED:20240515T010431Z
LAST-MODIFIED:20240515T011328Z
UID:10000866-1876780800-1876867199@maidencreek.net
SUMMARY:Recycling Day for Red Zone
DESCRIPTION:
URL:https://maidencreek.net/calendar/recycling-day-for-red-zone/2029-06-22/
LOCATION:PA
CATEGORIES:Recycling
END:VEVENT
BEGIN:VEVENT
DTSTART;TZID=America/New_York:20290627T180000
DTEND;TZID=America/New_York:20290627T200000
DTSTAMP:20260419T213331
CREATED:20251117T181913Z
LAST-MODIFIED:20251117T184459Z
UID:10000957-1877277600-1877284800@maidencreek.net
SUMMARY:Planning Commission Regular Meeting
DESCRIPTION:A regular meeting of the Township’s Planning Commission\, held at the Township Building at 1 Quarry Road\, Reading\, PA 19605.
URL:https://maidencreek.net/calendar/planning-commission-regular-meeting-20-3/2029-06-27/
LOCATION:Planning Commission\, 1 Quarry Road\, Reading\, PA\, 19605\, United States
CATEGORIES:Meeting,Planning Commission
END:VEVENT
BEGIN:VEVENT
DTSTART;TZID=America/New_York:20290628T180000
DTEND;TZID=America/New_York:20290628T200000
DTSTAMP:20260419T213331
CREATED:20251117T142712Z
LAST-MODIFIED:20251117T185212Z
UID:10001011-1877364000-1877371200@maidencreek.net
SUMMARY:Park and Recreation Board Meeting
DESCRIPTION:
URL:https://maidencreek.net/calendar/park-and-recreation-board-meeting-19/2029-06-28/
LOCATION:Parks and Recreation Board\, 1 Quarry Road\, Reading\, PA\, 19605\, United States
CATEGORIES:Meeting,Parks and Recreation Board
END:VEVENT
BEGIN:VEVENT
DTSTART;VALUE=DATE:20290629
DTEND;VALUE=DATE:20290630
DTSTAMP:20260419T213331
CREATED:20240515T013100Z
LAST-MODIFIED:20240515T013100Z
UID:10001045-1877385600-1877471999@maidencreek.net
SUMMARY:Recycling Day for Blue Zone
DESCRIPTION:
URL:https://maidencreek.net/calendar/recycling-day-for-blue-zone/2029-06-29/
LOCATION:PA
CATEGORIES:Recycling
END:VEVENT
BEGIN:VEVENT
DTSTART;VALUE=DATE:20290706
DTEND;VALUE=DATE:20290707
DTSTAMP:20260419T213331
CREATED:20240515T010431Z
LAST-MODIFIED:20240515T011328Z
UID:10000867-1877990400-1878076799@maidencreek.net
SUMMARY:Recycling Day for Red Zone
DESCRIPTION:
URL:https://maidencreek.net/calendar/recycling-day-for-red-zone/2029-07-06/
LOCATION:PA
CATEGORIES:Recycling
END:VEVENT
BEGIN:VEVENT
DTSTART;TZID=America/New_York:20290712T180000
DTEND;TZID=America/New_York:20290712T200000
DTSTAMP:20260419T213331
CREATED:20240509T161339Z
LAST-MODIFIED:20240517T153356Z
UID:10000757-1878573600-1878580800@maidencreek.net
SUMMARY:Board of Supervisors Regular Meeting
DESCRIPTION:PLEASE LOOK AT UPDATED AGENDA \nA public meeting of the Board of Supervisors\, held at the Township building at 1 Quarry Road\, Reading\, PA 19605.
URL:https://maidencreek.net/calendar/board-of-supervisors-regular-meeting/2029-07-12/
LOCATION:Board of Supervisors\, 1 Quarry Road\, Reading\, PA\, 19605\, United States
CATEGORIES:Board of Supervisors,Meeting
END:VEVENT
BEGIN:VEVENT
DTSTART;VALUE=DATE:20290713
DTEND;VALUE=DATE:20290714
DTSTAMP:20260419T213331
CREATED:20240515T013100Z
LAST-MODIFIED:20240515T013100Z
UID:10001046-1878595200-1878681599@maidencreek.net
SUMMARY:Recycling Day for Blue Zone
DESCRIPTION:
URL:https://maidencreek.net/calendar/recycling-day-for-blue-zone/2029-07-13/
LOCATION:PA
CATEGORIES:Recycling
END:VEVENT
BEGIN:VEVENT
DTSTART;VALUE=DATE:20290720
DTEND;VALUE=DATE:20290721
DTSTAMP:20260419T213331
CREATED:20240515T010431Z
LAST-MODIFIED:20240515T011328Z
UID:10000868-1879200000-1879286399@maidencreek.net
SUMMARY:Recycling Day for Red Zone
DESCRIPTION:
URL:https://maidencreek.net/calendar/recycling-day-for-red-zone/2029-07-20/
LOCATION:PA
CATEGORIES:Recycling
END:VEVENT
BEGIN:VEVENT
DTSTART;TZID=America/New_York:20290725T180000
DTEND;TZID=America/New_York:20290725T200000
DTSTAMP:20260419T213331
CREATED:20251117T181913Z
LAST-MODIFIED:20251117T184459Z
UID:10000958-1879696800-1879704000@maidencreek.net
SUMMARY:Planning Commission Regular Meeting
DESCRIPTION:A regular meeting of the Township’s Planning Commission\, held at the Township Building at 1 Quarry Road\, Reading\, PA 19605.
URL:https://maidencreek.net/calendar/planning-commission-regular-meeting-20-3/2029-07-25/
LOCATION:Planning Commission\, 1 Quarry Road\, Reading\, PA\, 19605\, United States
CATEGORIES:Meeting,Planning Commission
END:VEVENT
BEGIN:VEVENT
DTSTART;TZID=America/New_York:20290726T180000
DTEND;TZID=America/New_York:20290726T200000
DTSTAMP:20260419T213331
CREATED:20251117T142712Z
LAST-MODIFIED:20251117T185212Z
UID:10001012-1879783200-1879790400@maidencreek.net
SUMMARY:Park and Recreation Board Meeting
DESCRIPTION:
URL:https://maidencreek.net/calendar/park-and-recreation-board-meeting-19/2029-07-26/
LOCATION:Parks and Recreation Board\, 1 Quarry Road\, Reading\, PA\, 19605\, United States
CATEGORIES:Meeting,Parks and Recreation Board
END:VEVENT
BEGIN:VEVENT
DTSTART;VALUE=DATE:20290727
DTEND;VALUE=DATE:20290728
DTSTAMP:20260419T213331
CREATED:20240515T013100Z
LAST-MODIFIED:20240515T013100Z
UID:10001047-1879804800-1879891199@maidencreek.net
SUMMARY:Recycling Day for Blue Zone
DESCRIPTION:
URL:https://maidencreek.net/calendar/recycling-day-for-blue-zone/2029-07-27/
LOCATION:PA
CATEGORIES:Recycling
END:VEVENT
BEGIN:VEVENT
DTSTART;VALUE=DATE:20290803
DTEND;VALUE=DATE:20290804
DTSTAMP:20260419T213331
CREATED:20240515T010431Z
LAST-MODIFIED:20240515T011328Z
UID:10000869-1880409600-1880495999@maidencreek.net
SUMMARY:Recycling Day for Red Zone
DESCRIPTION:
URL:https://maidencreek.net/calendar/recycling-day-for-red-zone/2029-08-03/
LOCATION:PA
CATEGORIES:Recycling
END:VEVENT
BEGIN:VEVENT
DTSTART;TZID=America/New_York:20290809T180000
DTEND;TZID=America/New_York:20290809T200000
DTSTAMP:20260419T213331
CREATED:20240509T161339Z
LAST-MODIFIED:20240517T153356Z
UID:10000762-1880992800-1881000000@maidencreek.net
SUMMARY:Board of Supervisors Regular Meeting
DESCRIPTION:PLEASE LOOK AT UPDATED AGENDA \nA public meeting of the Board of Supervisors\, held at the Township building at 1 Quarry Road\, Reading\, PA 19605.
URL:https://maidencreek.net/calendar/board-of-supervisors-regular-meeting/2029-08-09/
LOCATION:Board of Supervisors\, 1 Quarry Road\, Reading\, PA\, 19605\, United States
CATEGORIES:Board of Supervisors,Meeting
END:VEVENT
BEGIN:VEVENT
DTSTART;VALUE=DATE:20290810
DTEND;VALUE=DATE:20290811
DTSTAMP:20260419T213331
CREATED:20240515T013100Z
LAST-MODIFIED:20240515T013100Z
UID:10001048-1881014400-1881100799@maidencreek.net
SUMMARY:Recycling Day for Blue Zone
DESCRIPTION:
URL:https://maidencreek.net/calendar/recycling-day-for-blue-zone/2029-08-10/
LOCATION:PA
CATEGORIES:Recycling
END:VEVENT
BEGIN:VEVENT
DTSTART;VALUE=DATE:20290817
DTEND;VALUE=DATE:20290818
DTSTAMP:20260419T213331
CREATED:20240515T010431Z
LAST-MODIFIED:20240515T011328Z
UID:10000870-1881619200-1881705599@maidencreek.net
SUMMARY:Recycling Day for Red Zone
DESCRIPTION:
URL:https://maidencreek.net/calendar/recycling-day-for-red-zone/2029-08-17/
LOCATION:PA
CATEGORIES:Recycling
END:VEVENT
BEGIN:VEVENT
DTSTART;TZID=America/New_York:20290822T180000
DTEND;TZID=America/New_York:20290822T200000
DTSTAMP:20260419T213331
CREATED:20251117T181913Z
LAST-MODIFIED:20251117T184459Z
UID:10000959-1882116000-1882123200@maidencreek.net
SUMMARY:Planning Commission Regular Meeting
DESCRIPTION:A regular meeting of the Township’s Planning Commission\, held at the Township Building at 1 Quarry Road\, Reading\, PA 19605.
URL:https://maidencreek.net/calendar/planning-commission-regular-meeting-20-3/2029-08-22/
LOCATION:Planning Commission\, 1 Quarry Road\, Reading\, PA\, 19605\, United States
CATEGORIES:Meeting,Planning Commission
END:VEVENT
BEGIN:VEVENT
DTSTART;TZID=America/New_York:20290823T180000
DTEND;TZID=America/New_York:20290823T200000
DTSTAMP:20260419T213331
CREATED:20251117T142712Z
LAST-MODIFIED:20251117T185212Z
UID:10001013-1882202400-1882209600@maidencreek.net
SUMMARY:Park and Recreation Board Meeting
DESCRIPTION:
URL:https://maidencreek.net/calendar/park-and-recreation-board-meeting-19/2029-08-23/
LOCATION:Parks and Recreation Board\, 1 Quarry Road\, Reading\, PA\, 19605\, United States
CATEGORIES:Meeting,Parks and Recreation Board
END:VEVENT
BEGIN:VEVENT
DTSTART;VALUE=DATE:20290824
DTEND;VALUE=DATE:20290825
DTSTAMP:20260419T213331
CREATED:20240515T013100Z
LAST-MODIFIED:20240515T013100Z
UID:10001049-1882224000-1882310399@maidencreek.net
SUMMARY:Recycling Day for Blue Zone
DESCRIPTION:
URL:https://maidencreek.net/calendar/recycling-day-for-blue-zone/2029-08-24/
LOCATION:PA
CATEGORIES:Recycling
END:VEVENT
BEGIN:VEVENT
DTSTART;VALUE=DATE:20290831
DTEND;VALUE=DATE:20290901
DTSTAMP:20260419T213331
CREATED:20240515T010431Z
LAST-MODIFIED:20240515T011328Z
UID:10000871-1882828800-1882915199@maidencreek.net
SUMMARY:Recycling Day for Red Zone
DESCRIPTION:
URL:https://maidencreek.net/calendar/recycling-day-for-red-zone/2029-08-31/
LOCATION:PA
CATEGORIES:Recycling
END:VEVENT
END:VCALENDAR