BEGIN:VCALENDAR
VERSION:2.0
PRODID:-//Maiden Creek - ECPv6.15.15//NONSGML v1.0//EN
CALSCALE:GREGORIAN
METHOD:PUBLISH
X-ORIGINAL-URL:https://maidencreek.net
X-WR-CALDESC:Events for Maiden Creek
REFRESH-INTERVAL;VALUE=DURATION:PT1H
X-Robots-Tag:noindex
X-PUBLISHED-TTL:PT1H
BEGIN:VTIMEZONE
TZID:America/New_York
BEGIN:DAYLIGHT
TZOFFSETFROM:-0500
TZOFFSETTO:-0400
TZNAME:EDT
DTSTART:20280312T070000
END:DAYLIGHT
BEGIN:STANDARD
TZOFFSETFROM:-0400
TZOFFSETTO:-0500
TZNAME:EST
DTSTART:20281105T060000
END:STANDARD
BEGIN:DAYLIGHT
TZOFFSETFROM:-0500
TZOFFSETTO:-0400
TZNAME:EDT
DTSTART:20290311T070000
END:DAYLIGHT
BEGIN:STANDARD
TZOFFSETFROM:-0400
TZOFFSETTO:-0500
TZNAME:EST
DTSTART:20291104T060000
END:STANDARD
BEGIN:DAYLIGHT
TZOFFSETFROM:-0500
TZOFFSETTO:-0400
TZNAME:EDT
DTSTART:20300310T070000
END:DAYLIGHT
BEGIN:STANDARD
TZOFFSETFROM:-0400
TZOFFSETTO:-0500
TZNAME:EST
DTSTART:20301103T060000
END:STANDARD
BEGIN:DAYLIGHT
TZOFFSETFROM:-0500
TZOFFSETTO:-0400
TZNAME:EDT
DTSTART:20310309T070000
END:DAYLIGHT
BEGIN:STANDARD
TZOFFSETFROM:-0400
TZOFFSETTO:-0500
TZNAME:EST
DTSTART:20311102T060000
END:STANDARD
END:VTIMEZONE
BEGIN:VEVENT
DTSTART;VALUE=DATE:20290928
DTEND;VALUE=DATE:20290929
DTSTAMP:20260425T192913
CREATED:20240515T010431Z
LAST-MODIFIED:20240515T011328Z
UID:10000873-1885248000-1885334399@maidencreek.net
SUMMARY:Recycling Day for Red Zone
DESCRIPTION:
URL:https://maidencreek.net/calendar/recycling-day-for-red-zone/2029-09-28/
CATEGORIES:Recycling
END:VEVENT
BEGIN:VEVENT
DTSTART;VALUE=DATE:20291005
DTEND;VALUE=DATE:20291006
DTSTAMP:20260425T192913
CREATED:20240515T013100Z
LAST-MODIFIED:20240515T013100Z
UID:10001052-1885852800-1885939199@maidencreek.net
SUMMARY:Recycling Day for Blue Zone
DESCRIPTION:
URL:https://maidencreek.net/calendar/recycling-day-for-blue-zone/2029-10-05/
CATEGORIES:Recycling
END:VEVENT
BEGIN:VEVENT
DTSTART;TZID=America/New_York:20291011T180000
DTEND;TZID=America/New_York:20291011T200000
DTSTAMP:20260425T192913
CREATED:20240509T161339Z
LAST-MODIFIED:20240517T153356Z
UID:10000768-1886436000-1886443200@maidencreek.net
SUMMARY:Board of Supervisors Regular Meeting
DESCRIPTION:PLEASE LOOK AT UPDATED AGENDA \nA public meeting of the Board of Supervisors\, held at the Township building at 1 Quarry Road\, Reading\, PA 19605.
URL:https://maidencreek.net/calendar/board-of-supervisors-regular-meeting/2029-10-11/
LOCATION:Board of Supervisors\, 1 Quarry Road\, Reading\, PA\, 19605\, United States
CATEGORIES:Board of Supervisors,Meeting
END:VEVENT
BEGIN:VEVENT
DTSTART;VALUE=DATE:20291012
DTEND;VALUE=DATE:20291013
DTSTAMP:20260425T192913
CREATED:20240515T010431Z
LAST-MODIFIED:20240515T011328Z
UID:10000874-1886457600-1886543999@maidencreek.net
SUMMARY:Recycling Day for Red Zone
DESCRIPTION:
URL:https://maidencreek.net/calendar/recycling-day-for-red-zone/2029-10-12/
CATEGORIES:Recycling
END:VEVENT
BEGIN:VEVENT
DTSTART;VALUE=DATE:20291019
DTEND;VALUE=DATE:20291020
DTSTAMP:20260425T192913
CREATED:20240515T013100Z
LAST-MODIFIED:20240515T013100Z
UID:10001053-1887062400-1887148799@maidencreek.net
SUMMARY:Recycling Day for Blue Zone
DESCRIPTION:
URL:https://maidencreek.net/calendar/recycling-day-for-blue-zone/2029-10-19/
CATEGORIES:Recycling
END:VEVENT
BEGIN:VEVENT
DTSTART;TZID=America/New_York:20291024T180000
DTEND;TZID=America/New_York:20291024T200000
DTSTAMP:20260425T192913
CREATED:20251117T181913Z
LAST-MODIFIED:20251117T184459Z
UID:10000961-1887559200-1887566400@maidencreek.net
SUMMARY:Planning Commission Regular Meeting
DESCRIPTION:A regular meeting of the Township’s Planning Commission\, held at the Township Building at 1 Quarry Road\, Reading\, PA 19605.
URL:https://maidencreek.net/calendar/planning-commission-regular-meeting-20-3/2029-10-24/
LOCATION:Planning Commission\, 1 Quarry Road\, Reading\, PA\, 19605\, United States
CATEGORIES:Meeting,Planning Commission
END:VEVENT
BEGIN:VEVENT
DTSTART;TZID=America/New_York:20291025T180000
DTEND;TZID=America/New_York:20291025T200000
DTSTAMP:20260425T192913
CREATED:20251117T142712Z
LAST-MODIFIED:20251117T185212Z
UID:10001015-1887645600-1887652800@maidencreek.net
SUMMARY:Park and Recreation Board Meeting
DESCRIPTION:
URL:https://maidencreek.net/calendar/park-and-recreation-board-meeting-19/2029-10-25/
LOCATION:Parks and Recreation Board\, 1 Quarry Road\, Reading\, PA\, 19605\, United States
CATEGORIES:Meeting,Parks and Recreation Board
END:VEVENT
BEGIN:VEVENT
DTSTART;VALUE=DATE:20291026
DTEND;VALUE=DATE:20291027
DTSTAMP:20260425T192913
CREATED:20240515T010431Z
LAST-MODIFIED:20240515T011328Z
UID:10000875-1887667200-1887753599@maidencreek.net
SUMMARY:Recycling Day for Red Zone
DESCRIPTION:
URL:https://maidencreek.net/calendar/recycling-day-for-red-zone/2029-10-26/
CATEGORIES:Recycling
END:VEVENT
BEGIN:VEVENT
DTSTART;VALUE=DATE:20291102
DTEND;VALUE=DATE:20291103
DTSTAMP:20260425T192913
CREATED:20240515T013100Z
LAST-MODIFIED:20240515T013100Z
UID:10001054-1888272000-1888358399@maidencreek.net
SUMMARY:Recycling Day for Blue Zone
DESCRIPTION:
URL:https://maidencreek.net/calendar/recycling-day-for-blue-zone/2029-11-02/
CATEGORIES:Recycling
END:VEVENT
BEGIN:VEVENT
DTSTART;TZID=America/New_York:20291108T180000
DTEND;TZID=America/New_York:20291108T200000
DTSTAMP:20260425T192913
CREATED:20240509T161339Z
LAST-MODIFIED:20240517T153356Z
UID:10000769-1888855200-1888862400@maidencreek.net
SUMMARY:Board of Supervisors Regular Meeting
DESCRIPTION:PLEASE LOOK AT UPDATED AGENDA \nA public meeting of the Board of Supervisors\, held at the Township building at 1 Quarry Road\, Reading\, PA 19605.
URL:https://maidencreek.net/calendar/board-of-supervisors-regular-meeting/2029-11-08/
LOCATION:Board of Supervisors\, 1 Quarry Road\, Reading\, PA\, 19605\, United States
CATEGORIES:Board of Supervisors,Meeting
END:VEVENT
BEGIN:VEVENT
DTSTART;VALUE=DATE:20291109
DTEND;VALUE=DATE:20291110
DTSTAMP:20260425T192913
CREATED:20240515T010431Z
LAST-MODIFIED:20240515T011328Z
UID:10000876-1888876800-1888963199@maidencreek.net
SUMMARY:Recycling Day for Red Zone
DESCRIPTION:
URL:https://maidencreek.net/calendar/recycling-day-for-red-zone/2029-11-09/
CATEGORIES:Recycling
END:VEVENT
BEGIN:VEVENT
DTSTART;VALUE=DATE:20291116
DTEND;VALUE=DATE:20291117
DTSTAMP:20260425T192913
CREATED:20240515T013100Z
LAST-MODIFIED:20240515T013100Z
UID:10001055-1889481600-1889567999@maidencreek.net
SUMMARY:Recycling Day for Blue Zone
DESCRIPTION:
URL:https://maidencreek.net/calendar/recycling-day-for-blue-zone/2029-11-16/
CATEGORIES:Recycling
END:VEVENT
BEGIN:VEVENT
DTSTART;TZID=America/New_York:20291122T180000
DTEND;TZID=America/New_York:20291122T200000
DTSTAMP:20260425T192913
CREATED:20251117T142712Z
LAST-MODIFIED:20251117T185212Z
UID:10001016-1890064800-1890072000@maidencreek.net
SUMMARY:Park and Recreation Board Meeting
DESCRIPTION:
URL:https://maidencreek.net/calendar/park-and-recreation-board-meeting-19/2029-11-22/
LOCATION:Parks and Recreation Board\, 1 Quarry Road\, Reading\, PA\, 19605\, United States
CATEGORIES:Meeting,Parks and Recreation Board
END:VEVENT
BEGIN:VEVENT
DTSTART;VALUE=DATE:20291123
DTEND;VALUE=DATE:20291124
DTSTAMP:20260425T192913
CREATED:20240515T010431Z
LAST-MODIFIED:20240515T011328Z
UID:10000877-1890086400-1890172799@maidencreek.net
SUMMARY:Recycling Day for Red Zone
DESCRIPTION:
URL:https://maidencreek.net/calendar/recycling-day-for-red-zone/2029-11-23/
CATEGORIES:Recycling
END:VEVENT
BEGIN:VEVENT
DTSTART;TZID=America/New_York:20291128T180000
DTEND;TZID=America/New_York:20291128T200000
DTSTAMP:20260425T192913
CREATED:20251117T181913Z
LAST-MODIFIED:20251117T184459Z
UID:10000962-1890583200-1890590400@maidencreek.net
SUMMARY:Planning Commission Regular Meeting
DESCRIPTION:A regular meeting of the Township’s Planning Commission\, held at the Township Building at 1 Quarry Road\, Reading\, PA 19605.
URL:https://maidencreek.net/calendar/planning-commission-regular-meeting-20-3/2029-11-28/
LOCATION:Planning Commission\, 1 Quarry Road\, Reading\, PA\, 19605\, United States
CATEGORIES:Meeting,Planning Commission
END:VEVENT
BEGIN:VEVENT
DTSTART;VALUE=DATE:20291130
DTEND;VALUE=DATE:20291201
DTSTAMP:20260425T192913
CREATED:20240515T013100Z
LAST-MODIFIED:20240515T013100Z
UID:10001056-1890691200-1890777599@maidencreek.net
SUMMARY:Recycling Day for Blue Zone
DESCRIPTION:
URL:https://maidencreek.net/calendar/recycling-day-for-blue-zone/2029-11-30/
CATEGORIES:Recycling
END:VEVENT
BEGIN:VEVENT
DTSTART;VALUE=DATE:20291207
DTEND;VALUE=DATE:20291208
DTSTAMP:20260425T192913
CREATED:20240515T010431Z
LAST-MODIFIED:20240515T011328Z
UID:10000878-1891296000-1891382399@maidencreek.net
SUMMARY:Recycling Day for Red Zone
DESCRIPTION:
URL:https://maidencreek.net/calendar/recycling-day-for-red-zone/2029-12-07/
CATEGORIES:Recycling
END:VEVENT
BEGIN:VEVENT
DTSTART;VALUE=DATE:20291214
DTEND;VALUE=DATE:20291215
DTSTAMP:20260425T192913
CREATED:20240515T013100Z
LAST-MODIFIED:20240515T013100Z
UID:10001057-1891900800-1891987199@maidencreek.net
SUMMARY:Recycling Day for Blue Zone
DESCRIPTION:
URL:https://maidencreek.net/calendar/recycling-day-for-blue-zone/2029-12-14/
CATEGORIES:Recycling
END:VEVENT
BEGIN:VEVENT
DTSTART;VALUE=DATE:20291221
DTEND;VALUE=DATE:20291222
DTSTAMP:20260425T192913
CREATED:20240515T010431Z
LAST-MODIFIED:20240515T011328Z
UID:10000879-1892505600-1892591999@maidencreek.net
SUMMARY:Recycling Day for Red Zone
DESCRIPTION:
URL:https://maidencreek.net/calendar/recycling-day-for-red-zone/2029-12-21/
CATEGORIES:Recycling
END:VEVENT
BEGIN:VEVENT
DTSTART;TZID=America/New_York:20291226T180000
DTEND;TZID=America/New_York:20291226T200000
DTSTAMP:20260425T192913
CREATED:20251117T181913Z
LAST-MODIFIED:20251117T184459Z
UID:10000963-1893002400-1893009600@maidencreek.net
SUMMARY:Planning Commission Regular Meeting
DESCRIPTION:A regular meeting of the Township’s Planning Commission\, held at the Township Building at 1 Quarry Road\, Reading\, PA 19605.
URL:https://maidencreek.net/calendar/planning-commission-regular-meeting-20-3/2029-12-26/
LOCATION:Planning Commission\, 1 Quarry Road\, Reading\, PA\, 19605\, United States
CATEGORIES:Meeting,Planning Commission
END:VEVENT
BEGIN:VEVENT
DTSTART;TZID=America/New_York:20291227T180000
DTEND;TZID=America/New_York:20291227T200000
DTSTAMP:20260425T192913
CREATED:20251117T142712Z
LAST-MODIFIED:20251117T185212Z
UID:10001017-1893088800-1893096000@maidencreek.net
SUMMARY:Park and Recreation Board Meeting
DESCRIPTION:
URL:https://maidencreek.net/calendar/park-and-recreation-board-meeting-19/2029-12-27/
LOCATION:Parks and Recreation Board\, 1 Quarry Road\, Reading\, PA\, 19605\, United States
CATEGORIES:Meeting,Parks and Recreation Board
END:VEVENT
BEGIN:VEVENT
DTSTART;VALUE=DATE:20291228
DTEND;VALUE=DATE:20291229
DTSTAMP:20260425T192913
CREATED:20240515T013100Z
LAST-MODIFIED:20240515T013100Z
UID:10001058-1893110400-1893196799@maidencreek.net
SUMMARY:Recycling Day for Blue Zone
DESCRIPTION:
URL:https://maidencreek.net/calendar/recycling-day-for-blue-zone/2029-12-28/
CATEGORIES:Recycling
END:VEVENT
BEGIN:VEVENT
DTSTART;VALUE=DATE:20300104
DTEND;VALUE=DATE:20300105
DTSTAMP:20260425T192913
CREATED:20240515T010431Z
LAST-MODIFIED:20240515T011328Z
UID:10000880-1893715200-1893801599@maidencreek.net
SUMMARY:Recycling Day for Red Zone
DESCRIPTION:
URL:https://maidencreek.net/calendar/recycling-day-for-red-zone/2030-01-04/
CATEGORIES:Recycling
END:VEVENT
BEGIN:VEVENT
DTSTART;VALUE=DATE:20300111
DTEND;VALUE=DATE:20300112
DTSTAMP:20260425T192913
CREATED:20240515T013100Z
LAST-MODIFIED:20240515T013100Z
UID:10001059-1894320000-1894406399@maidencreek.net
SUMMARY:Recycling Day for Blue Zone
DESCRIPTION:
URL:https://maidencreek.net/calendar/recycling-day-for-blue-zone/2030-01-11/
CATEGORIES:Recycling
END:VEVENT
BEGIN:VEVENT
DTSTART;VALUE=DATE:20300118
DTEND;VALUE=DATE:20300119
DTSTAMP:20260425T192913
CREATED:20240515T010431Z
LAST-MODIFIED:20240515T011328Z
UID:10000881-1894924800-1895011199@maidencreek.net
SUMMARY:Recycling Day for Red Zone
DESCRIPTION:
URL:https://maidencreek.net/calendar/recycling-day-for-red-zone/2030-01-18/
CATEGORIES:Recycling
END:VEVENT
BEGIN:VEVENT
DTSTART;TZID=America/New_York:20300123T180000
DTEND;TZID=America/New_York:20300123T200000
DTSTAMP:20260425T192913
CREATED:20251117T181913Z
LAST-MODIFIED:20251117T184459Z
UID:10000964-1895421600-1895428800@maidencreek.net
SUMMARY:Planning Commission Regular Meeting
DESCRIPTION:A regular meeting of the Township’s Planning Commission\, held at the Township Building at 1 Quarry Road\, Reading\, PA 19605.
URL:https://maidencreek.net/calendar/planning-commission-regular-meeting-20-3/2030-01-23/
LOCATION:Planning Commission\, 1 Quarry Road\, Reading\, PA\, 19605\, United States
CATEGORIES:Meeting,Planning Commission
END:VEVENT
BEGIN:VEVENT
DTSTART;TZID=America/New_York:20300124T180000
DTEND;TZID=America/New_York:20300124T200000
DTSTAMP:20260425T192913
CREATED:20251117T142712Z
LAST-MODIFIED:20251117T185212Z
UID:10001018-1895508000-1895515200@maidencreek.net
SUMMARY:Park and Recreation Board Meeting
DESCRIPTION:
URL:https://maidencreek.net/calendar/park-and-recreation-board-meeting-19/2030-01-24/
LOCATION:Parks and Recreation Board\, 1 Quarry Road\, Reading\, PA\, 19605\, United States
CATEGORIES:Meeting,Parks and Recreation Board
END:VEVENT
BEGIN:VEVENT
DTSTART;VALUE=DATE:20300125
DTEND;VALUE=DATE:20300126
DTSTAMP:20260425T192913
CREATED:20240515T013100Z
LAST-MODIFIED:20240515T013100Z
UID:10001060-1895529600-1895615999@maidencreek.net
SUMMARY:Recycling Day for Blue Zone
DESCRIPTION:
URL:https://maidencreek.net/calendar/recycling-day-for-blue-zone/2030-01-25/
CATEGORIES:Recycling
END:VEVENT
BEGIN:VEVENT
DTSTART;VALUE=DATE:20300201
DTEND;VALUE=DATE:20300202
DTSTAMP:20260425T192913
CREATED:20240515T010431Z
LAST-MODIFIED:20240515T011328Z
UID:10000882-1896134400-1896220799@maidencreek.net
SUMMARY:Recycling Day for Red Zone
DESCRIPTION:
URL:https://maidencreek.net/calendar/recycling-day-for-red-zone/2030-02-01/
CATEGORIES:Recycling
END:VEVENT
BEGIN:VEVENT
DTSTART;VALUE=DATE:20300208
DTEND;VALUE=DATE:20300209
DTSTAMP:20260425T192913
CREATED:20240515T013100Z
LAST-MODIFIED:20240515T013100Z
UID:10001061-1896739200-1896825599@maidencreek.net
SUMMARY:Recycling Day for Blue Zone
DESCRIPTION:
URL:https://maidencreek.net/calendar/recycling-day-for-blue-zone/2030-02-08/
CATEGORIES:Recycling
END:VEVENT
END:VCALENDAR