BEGIN:VCALENDAR
VERSION:2.0
PRODID:-//Maiden Creek - ECPv6.15.15//NONSGML v1.0//EN
CALSCALE:GREGORIAN
METHOD:PUBLISH
X-ORIGINAL-URL:https://maidencreek.net
X-WR-CALDESC:Events for Maiden Creek
REFRESH-INTERVAL;VALUE=DURATION:PT1H
X-Robots-Tag:noindex
X-PUBLISHED-TTL:PT1H
BEGIN:VTIMEZONE
TZID:America/New_York
BEGIN:DAYLIGHT
TZOFFSETFROM:-0500
TZOFFSETTO:-0400
TZNAME:EDT
DTSTART:20230312T070000
END:DAYLIGHT
BEGIN:STANDARD
TZOFFSETFROM:-0400
TZOFFSETTO:-0500
TZNAME:EST
DTSTART:20231105T060000
END:STANDARD
BEGIN:DAYLIGHT
TZOFFSETFROM:-0500
TZOFFSETTO:-0400
TZNAME:EDT
DTSTART:20240310T070000
END:DAYLIGHT
BEGIN:STANDARD
TZOFFSETFROM:-0400
TZOFFSETTO:-0500
TZNAME:EST
DTSTART:20241103T060000
END:STANDARD
BEGIN:DAYLIGHT
TZOFFSETFROM:-0500
TZOFFSETTO:-0400
TZNAME:EDT
DTSTART:20250309T070000
END:DAYLIGHT
BEGIN:STANDARD
TZOFFSETFROM:-0400
TZOFFSETTO:-0500
TZNAME:EST
DTSTART:20251102T060000
END:STANDARD
END:VTIMEZONE
BEGIN:VEVENT
DTSTART;TZID=America/New_York:20240605T190000
DTEND;TZID=America/New_York:20240605T210000
DTSTAMP:20260419T235359
CREATED:20240514T134639Z
LAST-MODIFIED:20240517T153519Z
UID:10000004-1717614000-1717621200@maidencreek.net
SUMMARY:Planning Commission Regular Meeting
DESCRIPTION:A regular meeting of the Township’s Planning Commission\, held at the Township Building at 1 Quarry Road\, Reading\, PA 19605.
URL:https://maidencreek.net/calendar/planning-commission-regular-meeting/2024-06-05/
LOCATION:Planning Commission\, 1 Quarry Road\, Reading\, PA\, 19605\, United States
CATEGORIES:Meeting,Planning Commission
END:VEVENT
BEGIN:VEVENT
DTSTART;VALUE=DATE:20240607
DTEND;VALUE=DATE:20240608
DTSTAMP:20260419T235359
CREATED:20240515T013100Z
LAST-MODIFIED:20240515T013100Z
UID:10000197-1717718400-1717804799@maidencreek.net
SUMMARY:Recycling Day for Blue Zone
DESCRIPTION:
URL:https://maidencreek.net/calendar/recycling-day-for-blue-zone/2024-06-07/
CATEGORIES:Recycling
END:VEVENT
BEGIN:VEVENT
DTSTART;TZID=America/New_York:20240610T180000
DTEND;TZID=America/New_York:20240610T200000
DTSTAMP:20260419T235359
CREATED:20240515T015724Z
LAST-MODIFIED:20240515T015735Z
UID:10000387-1718042400-1718049600@maidencreek.net
SUMMARY:Northern Berks Regional Police Commission Meeting
DESCRIPTION:
URL:https://maidencreek.net/calendar/northern-berks-regional-police-commission-meeting/2024-06-10/
LOCATION:National Berks Police Commission\, 35 Ontelaunee Dr\, Reading\, PA\, 19605\, United States
CATEGORIES:Meeting,Northern Berks Regional Police Commission
END:VEVENT
BEGIN:VEVENT
DTSTART;TZID=America/New_York:20240613T180000
DTEND;TZID=America/New_York:20240613T200000
DTSTAMP:20260419T235359
CREATED:20240613T125755Z
LAST-MODIFIED:20240613T130737Z
UID:10000326-1718301600-1718308800@maidencreek.net
SUMMARY:Board of Supervisors Regular Meeting
DESCRIPTION:PLEASE LOOK AT UPDATED AGENDA \nA public meeting of the Board of Supervisors\, held at the Township building at 1 Quarry Road\, Reading\, PA 19605. \nJoin Zoom Meeting\nhttps://us02web.zoom.us/j/83287977385 \nMeeting ID: 832 8797 7385
URL:https://maidencreek.net/calendar/board-of-supervisors-regular-meeting-19/
LOCATION:Board of Supervisors\, 1 Quarry Road\, Reading\, PA\, 19605\, United States
CATEGORIES:Board of Supervisors,Meeting
END:VEVENT
BEGIN:VEVENT
DTSTART;VALUE=DATE:20240614
DTEND;VALUE=DATE:20240615
DTSTAMP:20260419T235359
CREATED:20240515T010431Z
LAST-MODIFIED:20240515T011328Z
UID:10000066-1718323200-1718409599@maidencreek.net
SUMMARY:Recycling Day for Red Zone
DESCRIPTION:
URL:https://maidencreek.net/calendar/recycling-day-for-red-zone/2024-06-14/
CATEGORIES:Recycling
END:VEVENT
BEGIN:VEVENT
DTSTART;TZID=America/New_York:20240620T110000
DTEND;TZID=America/New_York:20240620T130000
DTSTAMP:20260419T235359
CREATED:20240515T020051Z
LAST-MODIFIED:20240515T020204Z
UID:10000448-1718881200-1718888400@maidencreek.net
SUMMARY:Maidencreek Township Authority Meeting
DESCRIPTION:
URL:https://maidencreek.net/calendar/maidencreek-township-authority-meeting/2024-06-20/
LOCATION:Maidencreek Township Authority Board\, 1 Quarry Road\, Reading\, PA\, 19605\, United States
CATEGORIES:Maidencreek Township Authority,Meeting
END:VEVENT
BEGIN:VEVENT
DTSTART;TZID=America/New_York:20240620T190000
DTEND;TZID=America/New_York:20240620T210000
DTSTAMP:20260419T235359
CREATED:20240617T130635Z
LAST-MODIFIED:20240617T130635Z
UID:10000751-1718910000-1718917200@maidencreek.net
SUMMARY:11 Ingot Dr. Hearing
DESCRIPTION:Thursday evening there will be a hearing for 11 Ingot Drive.
URL:https://maidencreek.net/calendar/11-ingot-dr-hearing/
END:VEVENT
BEGIN:VEVENT
DTSTART;VALUE=DATE:20240621
DTEND;VALUE=DATE:20240622
DTSTAMP:20260419T235359
CREATED:20240515T013100Z
LAST-MODIFIED:20240515T013100Z
UID:10000198-1718928000-1719014399@maidencreek.net
SUMMARY:Recycling Day for Blue Zone
DESCRIPTION:
URL:https://maidencreek.net/calendar/recycling-day-for-blue-zone/2024-06-21/
CATEGORIES:Recycling
END:VEVENT
BEGIN:VEVENT
DTSTART;TZID=America/New_York:20240627T190000
DTEND;TZID=America/New_York:20240627T210000
DTSTAMP:20260419T235359
CREATED:20240626T164156Z
LAST-MODIFIED:20240626T164157Z
UID:10000676-1719514800-1719522000@maidencreek.net
SUMMARY:Park and Recreation Board Meeting
DESCRIPTION:
URL:https://maidencreek.net/calendar/park-and-recreation-board-meeting-16/
LOCATION:Parks and Recreation Board\, 1 Quarry Road\, Reading\, PA\, 19605\, United States
CATEGORIES:Meeting,Parks and Recreation Board
END:VEVENT
BEGIN:VEVENT
DTSTART;VALUE=DATE:20240628
DTEND;VALUE=DATE:20240629
DTSTAMP:20260419T235359
CREATED:20240515T010431Z
LAST-MODIFIED:20240515T011328Z
UID:10000067-1719532800-1719619199@maidencreek.net
SUMMARY:Recycling Day for Red Zone
DESCRIPTION:
URL:https://maidencreek.net/calendar/recycling-day-for-red-zone/2024-06-28/
CATEGORIES:Recycling
END:VEVENT
END:VCALENDAR