BEGIN:VCALENDAR
VERSION:2.0
PRODID:-//Maiden Creek - ECPv6.15.15//NONSGML v1.0//EN
CALSCALE:GREGORIAN
METHOD:PUBLISH
X-ORIGINAL-URL:https://maidencreek.net
X-WR-CALDESC:Events for Maiden Creek
REFRESH-INTERVAL;VALUE=DURATION:PT1H
X-Robots-Tag:noindex
X-PUBLISHED-TTL:PT1H
BEGIN:VTIMEZONE
TZID:America/New_York
BEGIN:DAYLIGHT
TZOFFSETFROM:-0500
TZOFFSETTO:-0400
TZNAME:EDT
DTSTART:20240310T070000
END:DAYLIGHT
BEGIN:STANDARD
TZOFFSETFROM:-0400
TZOFFSETTO:-0500
TZNAME:EST
DTSTART:20241103T060000
END:STANDARD
BEGIN:DAYLIGHT
TZOFFSETFROM:-0500
TZOFFSETTO:-0400
TZNAME:EDT
DTSTART:20250309T070000
END:DAYLIGHT
BEGIN:STANDARD
TZOFFSETFROM:-0400
TZOFFSETTO:-0500
TZNAME:EST
DTSTART:20251102T060000
END:STANDARD
BEGIN:DAYLIGHT
TZOFFSETFROM:-0500
TZOFFSETTO:-0400
TZNAME:EDT
DTSTART:20260308T070000
END:DAYLIGHT
BEGIN:STANDARD
TZOFFSETFROM:-0400
TZOFFSETTO:-0500
TZNAME:EST
DTSTART:20261101T060000
END:STANDARD
END:VTIMEZONE
BEGIN:VEVENT
DTSTART;TZID=America/New_York:20251203T190000
DTEND;TZID=America/New_York:20251203T210000
DTSTAMP:20260425T093354
CREATED:20251117T205213Z
LAST-MODIFIED:20251117T205213Z
UID:10001099-1764788400-1764795600@maidencreek.net
SUMMARY:Planning Commission Meeting
DESCRIPTION:
URL:https://maidencreek.net/calendar/planning-commission-meeting/
END:VEVENT
BEGIN:VEVENT
DTSTART;VALUE=DATE:20251205
DTEND;VALUE=DATE:20251206
DTSTAMP:20260425T093354
CREATED:20240515T013100Z
LAST-MODIFIED:20240515T013100Z
UID:10000236-1764892800-1764979199@maidencreek.net
SUMMARY:Recycling Day for Blue Zone
DESCRIPTION:
URL:https://maidencreek.net/calendar/recycling-day-for-blue-zone/2025-12-05/
CATEGORIES:Recycling
END:VEVENT
BEGIN:VEVENT
DTSTART;TZID=America/New_York:20251208T180000
DTEND;TZID=America/New_York:20251208T200000
DTSTAMP:20260425T093354
CREATED:20240515T015724Z
LAST-MODIFIED:20240515T015735Z
UID:10000405-1765216800-1765224000@maidencreek.net
SUMMARY:Northern Berks Regional Police Commission Meeting
DESCRIPTION:
URL:https://maidencreek.net/calendar/northern-berks-regional-police-commission-meeting/2025-12-08/
LOCATION:National Berks Police Commission\, 35 Ontelaunee Dr\, Reading\, PA\, 19605\, United States
CATEGORIES:Meeting,Northern Berks Regional Police Commission
END:VEVENT
BEGIN:VEVENT
DTSTART;TZID=America/New_York:20251211T180000
DTEND;TZID=America/New_York:20251211T200000
DTSTAMP:20260425T093354
CREATED:20240509T161339Z
LAST-MODIFIED:20240517T153356Z
UID:10000344-1765476000-1765483200@maidencreek.net
SUMMARY:Board of Supervisors Regular Meeting
DESCRIPTION:PLEASE LOOK AT UPDATED AGENDA \nA public meeting of the Board of Supervisors\, held at the Township building at 1 Quarry Road\, Reading\, PA 19605.
URL:https://maidencreek.net/calendar/board-of-supervisors-regular-meeting/2025-12-11/
LOCATION:Board of Supervisors\, 1 Quarry Road\, Reading\, PA\, 19605\, United States
CATEGORIES:Board of Supervisors,Meeting
END:VEVENT
BEGIN:VEVENT
DTSTART;VALUE=DATE:20251212
DTEND;VALUE=DATE:20251213
DTSTAMP:20260425T093354
CREATED:20240515T010431Z
LAST-MODIFIED:20240515T011328Z
UID:10000105-1765497600-1765583999@maidencreek.net
SUMMARY:Recycling Day for Red Zone
DESCRIPTION:
URL:https://maidencreek.net/calendar/recycling-day-for-red-zone/2025-12-12/
CATEGORIES:Recycling
END:VEVENT
BEGIN:VEVENT
DTSTART;TZID=America/New_York:20251218T110000
DTEND;TZID=America/New_York:20251218T130000
DTSTAMP:20260425T093354
CREATED:20240515T020051Z
LAST-MODIFIED:20240515T020204Z
UID:10000466-1766055600-1766062800@maidencreek.net
SUMMARY:Maidencreek Township Authority Meeting
DESCRIPTION:
URL:https://maidencreek.net/calendar/maidencreek-township-authority-meeting/2025-12-18/
LOCATION:Maidencreek Township Authority Board\, 1 Quarry Road\, Reading\, PA\, 19605\, United States
CATEGORIES:Maidencreek Township Authority,Meeting
END:VEVENT
BEGIN:VEVENT
DTSTART;VALUE=DATE:20251219
DTEND;VALUE=DATE:20251220
DTSTAMP:20260425T093354
CREATED:20240515T013100Z
LAST-MODIFIED:20240515T013100Z
UID:10000237-1766102400-1766188799@maidencreek.net
SUMMARY:Recycling Day for Blue Zone
DESCRIPTION:
URL:https://maidencreek.net/calendar/recycling-day-for-blue-zone/2025-12-19/
CATEGORIES:Recycling
END:VEVENT
BEGIN:VEVENT
DTSTART;VALUE=DATE:20251224
DTEND;VALUE=DATE:20251225
DTSTAMP:20260425T093354
CREATED:20251117T174239Z
LAST-MODIFIED:20251117T174239Z
UID:10000905-1766534400-1766620799@maidencreek.net
SUMMARY:Christmas Eve - Township Office Closed
DESCRIPTION:
URL:https://maidencreek.net/calendar/christmas-eve-township-office-closed/
END:VEVENT
BEGIN:VEVENT
DTSTART;VALUE=DATE:20251225
DTEND;VALUE=DATE:20251226
DTSTAMP:20260425T093354
CREATED:20251117T174423Z
LAST-MODIFIED:20251117T174423Z
UID:10000906-1766620800-1766707199@maidencreek.net
SUMMARY:Christmas Day - Township Office Closed
DESCRIPTION:
URL:https://maidencreek.net/calendar/christmas-day-township-office-closed/
END:VEVENT
BEGIN:VEVENT
DTSTART;VALUE=DATE:20251227
DTEND;VALUE=DATE:20251228
DTSTAMP:20260425T093354
CREATED:20251117T155505Z
LAST-MODIFIED:20251117T155505Z
UID:10000106-1766793600-1766879999@maidencreek.net
SUMMARY:Recycling Day for Red Zone
DESCRIPTION:
URL:https://maidencreek.net/calendar/recycling-day-for-red-zone-3/
CATEGORIES:Recycling
END:VEVENT
BEGIN:VEVENT
DTSTART;VALUE=DATE:20251231
DTEND;VALUE=DATE:20260101
DTSTAMP:20260425T093354
CREATED:20251117T174722Z
LAST-MODIFIED:20251117T174722Z
UID:10000908-1767139200-1767225599@maidencreek.net
SUMMARY:New Year's Eve - Township Office Closed
DESCRIPTION:
URL:https://maidencreek.net/calendar/new-years-eve-township-office-closed/
END:VEVENT
END:VCALENDAR