BEGIN:VCALENDAR
VERSION:2.0
PRODID:-//Maiden Creek - ECPv6.15.15//NONSGML v1.0//EN
CALSCALE:GREGORIAN
METHOD:PUBLISH
X-ORIGINAL-URL:https://maidencreek.net
X-WR-CALDESC:Events for Maiden Creek
REFRESH-INTERVAL;VALUE=DURATION:PT1H
X-Robots-Tag:noindex
X-PUBLISHED-TTL:PT1H
BEGIN:VTIMEZONE
TZID:America/New_York
BEGIN:DAYLIGHT
TZOFFSETFROM:-0500
TZOFFSETTO:-0400
TZNAME:EDT
DTSTART:20250309T070000
END:DAYLIGHT
BEGIN:STANDARD
TZOFFSETFROM:-0400
TZOFFSETTO:-0500
TZNAME:EST
DTSTART:20251102T060000
END:STANDARD
BEGIN:DAYLIGHT
TZOFFSETFROM:-0500
TZOFFSETTO:-0400
TZNAME:EDT
DTSTART:20260308T070000
END:DAYLIGHT
BEGIN:STANDARD
TZOFFSETFROM:-0400
TZOFFSETTO:-0500
TZNAME:EST
DTSTART:20261101T060000
END:STANDARD
BEGIN:DAYLIGHT
TZOFFSETFROM:-0500
TZOFFSETTO:-0400
TZNAME:EDT
DTSTART:20270314T070000
END:DAYLIGHT
BEGIN:STANDARD
TZOFFSETFROM:-0400
TZOFFSETTO:-0500
TZNAME:EST
DTSTART:20271107T060000
END:STANDARD
END:VTIMEZONE
BEGIN:VEVENT
DTSTART;VALUE=DATE:20260420
DTEND;VALUE=DATE:20260421
DTSTAMP:20260420T044016
CREATED:20251117T193109Z
LAST-MODIFIED:20251117T193109Z
UID:10001033-1776643200-1776729599@maidencreek.net
SUMMARY:Brush Pickup
DESCRIPTION:
URL:https://maidencreek.net/calendar/brush-pickup-2/
END:VEVENT
BEGIN:VEVENT
DTSTART;TZID=America/New_York:20260422T180000
DTEND;TZID=America/New_York:20260422T200000
DTSTAMP:20260420T044016
CREATED:20251117T181913Z
LAST-MODIFIED:20251117T184459Z
UID:10000919-1776880800-1776888000@maidencreek.net
SUMMARY:Planning Commission Regular Meeting
DESCRIPTION:A regular meeting of the Township’s Planning Commission\, held at the Township Building at 1 Quarry Road\, Reading\, PA 19605.
URL:https://maidencreek.net/calendar/planning-commission-regular-meeting-20-3/2026-04-22/
LOCATION:Planning Commission\, 1 Quarry Road\, Reading\, PA\, 19605\, United States
CATEGORIES:Meeting,Planning Commission
END:VEVENT
BEGIN:VEVENT
DTSTART;TZID=America/New_York:20260423T180000
DTEND;TZID=America/New_York:20260423T200000
DTSTAMP:20260420T044016
CREATED:20251117T142712Z
LAST-MODIFIED:20251117T185212Z
UID:10000976-1776967200-1776974400@maidencreek.net
SUMMARY:Park and Recreation Board Meeting
DESCRIPTION:
URL:https://maidencreek.net/calendar/park-and-recreation-board-meeting-19/2026-04-23/
LOCATION:Parks and Recreation Board\, 1 Quarry Road\, Reading\, PA\, 19605\, United States
CATEGORIES:Meeting,Parks and Recreation Board
END:VEVENT
BEGIN:VEVENT
DTSTART;VALUE=DATE:20260424
DTEND;VALUE=DATE:20260425
DTSTAMP:20260420T044016
CREATED:20240515T013100Z
LAST-MODIFIED:20240515T013100Z
UID:10000246-1776988800-1777075199@maidencreek.net
SUMMARY:Recycling Day for Blue Zone
DESCRIPTION:
URL:https://maidencreek.net/calendar/recycling-day-for-blue-zone/2026-04-24/
CATEGORIES:Recycling
END:VEVENT
BEGIN:VEVENT
DTSTART;VALUE=DATE:20260427
DTEND;VALUE=DATE:20260428
DTSTAMP:20260420T044016
CREATED:20251117T193150Z
LAST-MODIFIED:20251117T193150Z
UID:10001034-1777248000-1777334399@maidencreek.net
SUMMARY:Brush Pickup
DESCRIPTION:
URL:https://maidencreek.net/calendar/brush-pickup-3/
END:VEVENT
END:VCALENDAR